BEGIN:VCALENDAR
VERSION:2.0
PRODID:-//Het Haagsch Handboogschuttersgilde van Sint Sebastiaen - ECPv6.15.18//NONSGML v1.0//EN
CALSCALE:GREGORIAN
METHOD:PUBLISH
X-WR-CALNAME:Het Haagsch Handboogschuttersgilde van Sint Sebastiaen
X-ORIGINAL-URL:https://sintsebastiaen.nl
X-WR-CALDESC:Evenementen voor Het Haagsch Handboogschuttersgilde van Sint Sebastiaen
REFRESH-INTERVAL;VALUE=DURATION:PT1H
X-Robots-Tag:noindex
X-PUBLISHED-TTL:PT1H
BEGIN:VTIMEZONE
TZID:Europe/Amsterdam
BEGIN:DAYLIGHT
TZOFFSETFROM:+0100
TZOFFSETTO:+0200
TZNAME:CEST
DTSTART:20250330T010000
END:DAYLIGHT
BEGIN:STANDARD
TZOFFSETFROM:+0200
TZOFFSETTO:+0100
TZNAME:CET
DTSTART:20251026T010000
END:STANDARD
BEGIN:DAYLIGHT
TZOFFSETFROM:+0100
TZOFFSETTO:+0200
TZNAME:CEST
DTSTART:20260329T010000
END:DAYLIGHT
BEGIN:STANDARD
TZOFFSETFROM:+0200
TZOFFSETTO:+0100
TZNAME:CET
DTSTART:20261025T010000
END:STANDARD
BEGIN:DAYLIGHT
TZOFFSETFROM:+0100
TZOFFSETTO:+0200
TZNAME:CEST
DTSTART:20270328T010000
END:DAYLIGHT
BEGIN:STANDARD
TZOFFSETFROM:+0200
TZOFFSETTO:+0100
TZNAME:CET
DTSTART:20271031T010000
END:STANDARD
END:VTIMEZONE
BEGIN:VEVENT
DTSTART;TZID=Europe/Amsterdam:20260419T140000
DTEND;TZID=Europe/Amsterdam:20260419T180000
DTSTAMP:20260419T145052
CREATED:20251126T201113Z
LAST-MODIFIED:20251126T201113Z
UID:10004159-1776607200-1776621600@sintsebastiaen.nl
SUMMARY:Clubdag
DESCRIPTION:Clubdag voor leden van Sint Sebastiaen
URL:https://sintsebastiaen.nl/event/clubdag/2026-04-19/
LOCATION:Sint Sebastiaen Den Haag\, Groenendaal 10\, Wassenaar\, 2244 BK\, Nederland
ORGANIZER;CN="Sint Sebastiaen":MAILTO:communicatie@sintsebastiaen.nl
END:VEVENT
BEGIN:VEVENT
DTSTART;TZID=Europe/Amsterdam:20260420T200000
DTEND;TZID=Europe/Amsterdam:20260420T223000
DTSTAMP:20260419T145052
CREATED:20260213T132434Z
LAST-MODIFIED:20260213T132609Z
UID:10004661-1776715200-1776724200@sintsebastiaen.nl
SUMMARY:Voorjaarscursus 2026
DESCRIPTION:
URL:https://sintsebastiaen.nl/event/voorjaarscursus-2026/2026-04-20/
LOCATION:Sint Sebastiaen Den Haag\, Groenendaal 10\, Wassenaar\, 2244 BK\, Nederland
ORGANIZER;CN="Sint Sebastiaen":MAILTO:communicatie@sintsebastiaen.nl
END:VEVENT
BEGIN:VEVENT
DTSTART;TZID=Europe/Amsterdam:20260421T200000
DTEND;TZID=Europe/Amsterdam:20260421T223000
DTSTAMP:20260419T145052
CREATED:20260213T132434Z
LAST-MODIFIED:20260213T132609Z
UID:10004662-1776801600-1776810600@sintsebastiaen.nl
SUMMARY:Voorjaarscursus 2026
DESCRIPTION:
URL:https://sintsebastiaen.nl/event/voorjaarscursus-2026/2026-04-21/
LOCATION:Sint Sebastiaen Den Haag\, Groenendaal 10\, Wassenaar\, 2244 BK\, Nederland
ORGANIZER;CN="Sint Sebastiaen":MAILTO:communicatie@sintsebastiaen.nl
END:VEVENT
BEGIN:VEVENT
DTSTART;TZID=Europe/Amsterdam:20260422T200000
DTEND;TZID=Europe/Amsterdam:20260422T230000
DTSTAMP:20260419T145052
CREATED:20251126T200335Z
LAST-MODIFIED:20251126T200335Z
UID:10003616-1776888000-1776898800@sintsebastiaen.nl
SUMMARY:Clubavond
DESCRIPTION:Clubavond voor leden van Sint Sebastiaen
URL:https://sintsebastiaen.nl/event/clubavond/2026-04-22/
LOCATION:Sint Sebastiaen Den Haag\, Groenendaal 10\, Wassenaar\, 2244 BK\, Nederland
ORGANIZER;CN="Sint Sebastiaen":MAILTO:communicatie@sintsebastiaen.nl
END:VEVENT
BEGIN:VEVENT
DTSTART;TZID=Europe/Amsterdam:20260425T113000
DTEND;TZID=Europe/Amsterdam:20260425T130000
DTSTAMP:20260419T145052
CREATED:20221216T101727Z
LAST-MODIFIED:20221216T102334Z
UID:10002099-1777116600-1777122000@sintsebastiaen.nl
SUMMARY:Jeugd: vrij schieten\, kinderen/ouders samen schieten
DESCRIPTION:Iedere zaterdag na de jeugd cursus\, en ochtend\, kunnen ouders samen met hun kinderen schieten als beide lid zijn van de club. Daarnaast is er op deze tijden ruimte voor vrij schieten voor de jeugd.
URL:https://sintsebastiaen.nl/event/gezamelijk-schieten-ouders-jeugd/2026-04-25/
LOCATION:Sint Sebastiaen Den Haag\, Groenendaal 10\, Wassenaar\, 2244 BK\, Nederland
CATEGORIES:Vrij Schieten
ORGANIZER;CN="Sint Sebastiaen":MAILTO:communicatie@sintsebastiaen.nl
END:VEVENT
BEGIN:VEVENT
DTSTART;TZID=Europe/Amsterdam:20260425T140000
DTEND;TZID=Europe/Amsterdam:20260425T180000
DTSTAMP:20260419T145052
CREATED:20251126T201113Z
LAST-MODIFIED:20251126T201113Z
UID:10004160-1777125600-1777140000@sintsebastiaen.nl
SUMMARY:Clubdag
DESCRIPTION:Clubdag voor leden van Sint Sebastiaen
URL:https://sintsebastiaen.nl/event/clubdag/2026-04-25/
LOCATION:Sint Sebastiaen Den Haag\, Groenendaal 10\, Wassenaar\, 2244 BK\, Nederland
ORGANIZER;CN="Sint Sebastiaen":MAILTO:communicatie@sintsebastiaen.nl
END:VEVENT
BEGIN:VEVENT
DTSTART;TZID=Europe/Amsterdam:20260426T140000
DTEND;TZID=Europe/Amsterdam:20260426T180000
DTSTAMP:20260419T145052
CREATED:20251126T201113Z
LAST-MODIFIED:20251126T201113Z
UID:10004161-1777212000-1777226400@sintsebastiaen.nl
SUMMARY:Clubdag
DESCRIPTION:Clubdag voor leden van Sint Sebastiaen
URL:https://sintsebastiaen.nl/event/clubdag/2026-04-26/
LOCATION:Sint Sebastiaen Den Haag\, Groenendaal 10\, Wassenaar\, 2244 BK\, Nederland
ORGANIZER;CN="Sint Sebastiaen":MAILTO:communicatie@sintsebastiaen.nl
END:VEVENT
BEGIN:VEVENT
DTSTART;TZID=Europe/Amsterdam:20260427T200000
DTEND;TZID=Europe/Amsterdam:20260427T223000
DTSTAMP:20260419T145052
CREATED:20260213T132434Z
LAST-MODIFIED:20260213T132609Z
UID:10004663-1777320000-1777329000@sintsebastiaen.nl
SUMMARY:Voorjaarscursus 2026
DESCRIPTION:
URL:https://sintsebastiaen.nl/event/voorjaarscursus-2026/2026-04-27/
LOCATION:Sint Sebastiaen Den Haag\, Groenendaal 10\, Wassenaar\, 2244 BK\, Nederland
ORGANIZER;CN="Sint Sebastiaen":MAILTO:communicatie@sintsebastiaen.nl
END:VEVENT
BEGIN:VEVENT
DTSTART;TZID=Europe/Amsterdam:20260428T200000
DTEND;TZID=Europe/Amsterdam:20260428T223000
DTSTAMP:20260419T145052
CREATED:20260213T132434Z
LAST-MODIFIED:20260213T132609Z
UID:10004664-1777406400-1777415400@sintsebastiaen.nl
SUMMARY:Voorjaarscursus 2026
DESCRIPTION:
URL:https://sintsebastiaen.nl/event/voorjaarscursus-2026/2026-04-28/
LOCATION:Sint Sebastiaen Den Haag\, Groenendaal 10\, Wassenaar\, 2244 BK\, Nederland
ORGANIZER;CN="Sint Sebastiaen":MAILTO:communicatie@sintsebastiaen.nl
END:VEVENT
BEGIN:VEVENT
DTSTART;TZID=Europe/Amsterdam:20260429T200000
DTEND;TZID=Europe/Amsterdam:20260429T230000
DTSTAMP:20260419T145052
CREATED:20251126T200335Z
LAST-MODIFIED:20251126T200335Z
UID:10003617-1777492800-1777503600@sintsebastiaen.nl
SUMMARY:Clubavond
DESCRIPTION:Clubavond voor leden van Sint Sebastiaen
URL:https://sintsebastiaen.nl/event/clubavond/2026-04-29/
LOCATION:Sint Sebastiaen Den Haag\, Groenendaal 10\, Wassenaar\, 2244 BK\, Nederland
ORGANIZER;CN="Sint Sebastiaen":MAILTO:communicatie@sintsebastiaen.nl
END:VEVENT
BEGIN:VEVENT
DTSTART;TZID=Europe/Amsterdam:20260502T113000
DTEND;TZID=Europe/Amsterdam:20260502T130000
DTSTAMP:20260419T145052
CREATED:20221216T101727Z
LAST-MODIFIED:20221216T102334Z
UID:10002100-1777721400-1777726800@sintsebastiaen.nl
SUMMARY:Jeugd: vrij schieten\, kinderen/ouders samen schieten
DESCRIPTION:Iedere zaterdag na de jeugd cursus\, en ochtend\, kunnen ouders samen met hun kinderen schieten als beide lid zijn van de club. Daarnaast is er op deze tijden ruimte voor vrij schieten voor de jeugd.
URL:https://sintsebastiaen.nl/event/gezamelijk-schieten-ouders-jeugd/2026-05-02/
LOCATION:Sint Sebastiaen Den Haag\, Groenendaal 10\, Wassenaar\, 2244 BK\, Nederland
CATEGORIES:Vrij Schieten
ORGANIZER;CN="Sint Sebastiaen":MAILTO:communicatie@sintsebastiaen.nl
END:VEVENT
BEGIN:VEVENT
DTSTART;TZID=Europe/Amsterdam:20260502T140000
DTEND;TZID=Europe/Amsterdam:20260502T180000
DTSTAMP:20260419T145052
CREATED:20251126T201113Z
LAST-MODIFIED:20251126T201113Z
UID:10004162-1777730400-1777744800@sintsebastiaen.nl
SUMMARY:Clubdag
DESCRIPTION:Clubdag voor leden van Sint Sebastiaen
URL:https://sintsebastiaen.nl/event/clubdag/2026-05-02/
LOCATION:Sint Sebastiaen Den Haag\, Groenendaal 10\, Wassenaar\, 2244 BK\, Nederland
ORGANIZER;CN="Sint Sebastiaen":MAILTO:communicatie@sintsebastiaen.nl
END:VEVENT
BEGIN:VEVENT
DTSTART;TZID=Europe/Amsterdam:20260503T140000
DTEND;TZID=Europe/Amsterdam:20260503T163000
DTSTAMP:20260419T145052
CREATED:20250523T182654Z
LAST-MODIFIED:20260323T191732Z
UID:10003394-1777816800-1777825800@sintsebastiaen.nl
SUMMARY:Clinic\, op korte stuk onder de overkapping
DESCRIPTION:
URL:https://sintsebastiaen.nl/event/clinic-korte-baan-bij-slecht-weer-in-de-hal-3/
LOCATION:Sint Sebastiaen Den Haag\, Groenendaal 10\, Wassenaar\, 2244 BK\, Nederland
ORGANIZER;CN="Sint Sebastiaen":MAILTO:communicatie@sintsebastiaen.nl
END:VEVENT
BEGIN:VEVENT
DTSTART;TZID=Europe/Amsterdam:20260503T140000
DTEND;TZID=Europe/Amsterdam:20260503T180000
DTSTAMP:20260419T145052
CREATED:20251126T201113Z
LAST-MODIFIED:20251126T201113Z
UID:10004163-1777816800-1777831200@sintsebastiaen.nl
SUMMARY:Clubdag
DESCRIPTION:Clubdag voor leden van Sint Sebastiaen
URL:https://sintsebastiaen.nl/event/clubdag/2026-05-03/
LOCATION:Sint Sebastiaen Den Haag\, Groenendaal 10\, Wassenaar\, 2244 BK\, Nederland
ORGANIZER;CN="Sint Sebastiaen":MAILTO:communicatie@sintsebastiaen.nl
END:VEVENT
BEGIN:VEVENT
DTSTART;TZID=Europe/Amsterdam:20260504T200000
DTEND;TZID=Europe/Amsterdam:20260504T223000
DTSTAMP:20260419T145052
CREATED:20260213T132434Z
LAST-MODIFIED:20260213T132609Z
UID:10004665-1777924800-1777933800@sintsebastiaen.nl
SUMMARY:Voorjaarscursus 2026
DESCRIPTION:
URL:https://sintsebastiaen.nl/event/voorjaarscursus-2026/2026-05-04/
LOCATION:Sint Sebastiaen Den Haag\, Groenendaal 10\, Wassenaar\, 2244 BK\, Nederland
ORGANIZER;CN="Sint Sebastiaen":MAILTO:communicatie@sintsebastiaen.nl
END:VEVENT
BEGIN:VEVENT
DTSTART;TZID=Europe/Amsterdam:20260505T200000
DTEND;TZID=Europe/Amsterdam:20260505T223000
DTSTAMP:20260419T145052
CREATED:20260213T132434Z
LAST-MODIFIED:20260213T132609Z
UID:10004666-1778011200-1778020200@sintsebastiaen.nl
SUMMARY:Voorjaarscursus 2026
DESCRIPTION:
URL:https://sintsebastiaen.nl/event/voorjaarscursus-2026/2026-05-05/
LOCATION:Sint Sebastiaen Den Haag\, Groenendaal 10\, Wassenaar\, 2244 BK\, Nederland
ORGANIZER;CN="Sint Sebastiaen":MAILTO:communicatie@sintsebastiaen.nl
END:VEVENT
BEGIN:VEVENT
DTSTART;TZID=Europe/Amsterdam:20260506T200000
DTEND;TZID=Europe/Amsterdam:20260506T230000
DTSTAMP:20260419T145052
CREATED:20251126T200335Z
LAST-MODIFIED:20251126T200335Z
UID:10003618-1778097600-1778108400@sintsebastiaen.nl
SUMMARY:Clubavond
DESCRIPTION:Clubavond voor leden van Sint Sebastiaen
URL:https://sintsebastiaen.nl/event/clubavond/2026-05-06/
LOCATION:Sint Sebastiaen Den Haag\, Groenendaal 10\, Wassenaar\, 2244 BK\, Nederland
ORGANIZER;CN="Sint Sebastiaen":MAILTO:communicatie@sintsebastiaen.nl
END:VEVENT
BEGIN:VEVENT
DTSTART;TZID=Europe/Amsterdam:20260509T113000
DTEND;TZID=Europe/Amsterdam:20260509T130000
DTSTAMP:20260419T145052
CREATED:20221216T101727Z
LAST-MODIFIED:20221216T102334Z
UID:10002101-1778326200-1778331600@sintsebastiaen.nl
SUMMARY:Jeugd: vrij schieten\, kinderen/ouders samen schieten
DESCRIPTION:Iedere zaterdag na de jeugd cursus\, en ochtend\, kunnen ouders samen met hun kinderen schieten als beide lid zijn van de club. Daarnaast is er op deze tijden ruimte voor vrij schieten voor de jeugd.
URL:https://sintsebastiaen.nl/event/gezamelijk-schieten-ouders-jeugd/2026-05-09/
LOCATION:Sint Sebastiaen Den Haag\, Groenendaal 10\, Wassenaar\, 2244 BK\, Nederland
CATEGORIES:Vrij Schieten
ORGANIZER;CN="Sint Sebastiaen":MAILTO:communicatie@sintsebastiaen.nl
END:VEVENT
BEGIN:VEVENT
DTSTART;TZID=Europe/Amsterdam:20260509T140000
DTEND;TZID=Europe/Amsterdam:20260509T180000
DTSTAMP:20260419T145052
CREATED:20251126T201113Z
LAST-MODIFIED:20251126T201113Z
UID:10004164-1778335200-1778349600@sintsebastiaen.nl
SUMMARY:Clubdag
DESCRIPTION:Clubdag voor leden van Sint Sebastiaen
URL:https://sintsebastiaen.nl/event/clubdag/2026-05-09/
LOCATION:Sint Sebastiaen Den Haag\, Groenendaal 10\, Wassenaar\, 2244 BK\, Nederland
ORGANIZER;CN="Sint Sebastiaen":MAILTO:communicatie@sintsebastiaen.nl
END:VEVENT
BEGIN:VEVENT
DTSTART;TZID=Europe/Amsterdam:20260510T140000
DTEND;TZID=Europe/Amsterdam:20260510T180000
DTSTAMP:20260419T145052
CREATED:20251126T201113Z
LAST-MODIFIED:20251126T201113Z
UID:10004165-1778421600-1778436000@sintsebastiaen.nl
SUMMARY:Clubdag
DESCRIPTION:Clubdag voor leden van Sint Sebastiaen
URL:https://sintsebastiaen.nl/event/clubdag/2026-05-10/
LOCATION:Sint Sebastiaen Den Haag\, Groenendaal 10\, Wassenaar\, 2244 BK\, Nederland
ORGANIZER;CN="Sint Sebastiaen":MAILTO:communicatie@sintsebastiaen.nl
END:VEVENT
BEGIN:VEVENT
DTSTART;TZID=Europe/Amsterdam:20260511T200000
DTEND;TZID=Europe/Amsterdam:20260511T223000
DTSTAMP:20260419T145052
CREATED:20260213T132434Z
LAST-MODIFIED:20260213T132609Z
UID:10004667-1778529600-1778538600@sintsebastiaen.nl
SUMMARY:Voorjaarscursus 2026
DESCRIPTION:
URL:https://sintsebastiaen.nl/event/voorjaarscursus-2026/2026-05-11/
LOCATION:Sint Sebastiaen Den Haag\, Groenendaal 10\, Wassenaar\, 2244 BK\, Nederland
ORGANIZER;CN="Sint Sebastiaen":MAILTO:communicatie@sintsebastiaen.nl
END:VEVENT
BEGIN:VEVENT
DTSTART;TZID=Europe/Amsterdam:20260512T200000
DTEND;TZID=Europe/Amsterdam:20260512T223000
DTSTAMP:20260419T145052
CREATED:20260213T132434Z
LAST-MODIFIED:20260213T132609Z
UID:10004668-1778616000-1778625000@sintsebastiaen.nl
SUMMARY:Voorjaarscursus 2026
DESCRIPTION:
URL:https://sintsebastiaen.nl/event/voorjaarscursus-2026/2026-05-12/
LOCATION:Sint Sebastiaen Den Haag\, Groenendaal 10\, Wassenaar\, 2244 BK\, Nederland
ORGANIZER;CN="Sint Sebastiaen":MAILTO:communicatie@sintsebastiaen.nl
END:VEVENT
BEGIN:VEVENT
DTSTART;TZID=Europe/Amsterdam:20260513T200000
DTEND;TZID=Europe/Amsterdam:20260513T230000
DTSTAMP:20260419T145052
CREATED:20251126T200335Z
LAST-MODIFIED:20251126T200335Z
UID:10003619-1778702400-1778713200@sintsebastiaen.nl
SUMMARY:Clubavond
DESCRIPTION:Clubavond voor leden van Sint Sebastiaen
URL:https://sintsebastiaen.nl/event/clubavond/2026-05-13/
LOCATION:Sint Sebastiaen Den Haag\, Groenendaal 10\, Wassenaar\, 2244 BK\, Nederland
ORGANIZER;CN="Sint Sebastiaen":MAILTO:communicatie@sintsebastiaen.nl
END:VEVENT
BEGIN:VEVENT
DTSTART;TZID=Europe/Amsterdam:20260516T113000
DTEND;TZID=Europe/Amsterdam:20260516T130000
DTSTAMP:20260419T145052
CREATED:20221216T101727Z
LAST-MODIFIED:20221216T102334Z
UID:10002102-1778931000-1778936400@sintsebastiaen.nl
SUMMARY:Jeugd: vrij schieten\, kinderen/ouders samen schieten
DESCRIPTION:Iedere zaterdag na de jeugd cursus\, en ochtend\, kunnen ouders samen met hun kinderen schieten als beide lid zijn van de club. Daarnaast is er op deze tijden ruimte voor vrij schieten voor de jeugd.
URL:https://sintsebastiaen.nl/event/gezamelijk-schieten-ouders-jeugd/2026-05-16/
LOCATION:Sint Sebastiaen Den Haag\, Groenendaal 10\, Wassenaar\, 2244 BK\, Nederland
CATEGORIES:Vrij Schieten
ORGANIZER;CN="Sint Sebastiaen":MAILTO:communicatie@sintsebastiaen.nl
END:VEVENT
BEGIN:VEVENT
DTSTART;TZID=Europe/Amsterdam:20260516T140000
DTEND;TZID=Europe/Amsterdam:20260516T180000
DTSTAMP:20260419T145052
CREATED:20251126T201113Z
LAST-MODIFIED:20251126T201113Z
UID:10004166-1778940000-1778954400@sintsebastiaen.nl
SUMMARY:Clubdag
DESCRIPTION:Clubdag voor leden van Sint Sebastiaen
URL:https://sintsebastiaen.nl/event/clubdag/2026-05-16/
LOCATION:Sint Sebastiaen Den Haag\, Groenendaal 10\, Wassenaar\, 2244 BK\, Nederland
ORGANIZER;CN="Sint Sebastiaen":MAILTO:communicatie@sintsebastiaen.nl
END:VEVENT
BEGIN:VEVENT
DTSTART;TZID=Europe/Amsterdam:20260517T140000
DTEND;TZID=Europe/Amsterdam:20260517T180000
DTSTAMP:20260419T145052
CREATED:20251126T201113Z
LAST-MODIFIED:20251126T201113Z
UID:10004167-1779026400-1779040800@sintsebastiaen.nl
SUMMARY:Clubdag
DESCRIPTION:Clubdag voor leden van Sint Sebastiaen
URL:https://sintsebastiaen.nl/event/clubdag/2026-05-17/
LOCATION:Sint Sebastiaen Den Haag\, Groenendaal 10\, Wassenaar\, 2244 BK\, Nederland
ORGANIZER;CN="Sint Sebastiaen":MAILTO:communicatie@sintsebastiaen.nl
END:VEVENT
BEGIN:VEVENT
DTSTART;TZID=Europe/Amsterdam:20260518T200000
DTEND;TZID=Europe/Amsterdam:20260518T220000
DTSTAMP:20260419T145052
CREATED:20260213T132821Z
LAST-MODIFIED:20260213T132922Z
UID:10004669-1779134400-1779141600@sintsebastiaen.nl
SUMMARY:Nazorg voorjaarscursus 2026
DESCRIPTION:
URL:https://sintsebastiaen.nl/event/nazorg-voorjaarscursus-2026/2026-05-18/
LOCATION:Sint Sebastiaen Den Haag\, Groenendaal 10\, Wassenaar\, 2244 BK\, Nederland
ORGANIZER;CN="Sint Sebastiaen":MAILTO:communicatie@sintsebastiaen.nl
END:VEVENT
BEGIN:VEVENT
DTSTART;TZID=Europe/Amsterdam:20260520T200000
DTEND;TZID=Europe/Amsterdam:20260520T220000
DTSTAMP:20260419T145052
CREATED:20251126T204925Z
LAST-MODIFIED:20251126T204925Z
UID:10004640-1779307200-1779314400@sintsebastiaen.nl
SUMMARY:Algemene Ledenvergadering (ALV) - Baan gesloten
DESCRIPTION:
URL:https://sintsebastiaen.nl/event/algemene-ledenvergadering-alv-baan-gesloten/
LOCATION:Sint Sebastiaen Den Haag\, Groenendaal 10\, Wassenaar\, 2244 BK\, Nederland
ORGANIZER;CN="Sint Sebastiaen":MAILTO:communicatie@sintsebastiaen.nl
END:VEVENT
BEGIN:VEVENT
DTSTART;TZID=Europe/Amsterdam:20260523T113000
DTEND;TZID=Europe/Amsterdam:20260523T130000
DTSTAMP:20260419T145052
CREATED:20221216T101727Z
LAST-MODIFIED:20221216T102334Z
UID:10002103-1779535800-1779541200@sintsebastiaen.nl
SUMMARY:Jeugd: vrij schieten\, kinderen/ouders samen schieten
DESCRIPTION:Iedere zaterdag na de jeugd cursus\, en ochtend\, kunnen ouders samen met hun kinderen schieten als beide lid zijn van de club. Daarnaast is er op deze tijden ruimte voor vrij schieten voor de jeugd.
URL:https://sintsebastiaen.nl/event/gezamelijk-schieten-ouders-jeugd/2026-05-23/
LOCATION:Sint Sebastiaen Den Haag\, Groenendaal 10\, Wassenaar\, 2244 BK\, Nederland
CATEGORIES:Vrij Schieten
ORGANIZER;CN="Sint Sebastiaen":MAILTO:communicatie@sintsebastiaen.nl
END:VEVENT
BEGIN:VEVENT
DTSTART;TZID=Europe/Amsterdam:20260523T140000
DTEND;TZID=Europe/Amsterdam:20260523T180000
DTSTAMP:20260419T145052
CREATED:20251126T201113Z
LAST-MODIFIED:20251126T201113Z
UID:10004168-1779544800-1779559200@sintsebastiaen.nl
SUMMARY:Clubdag
DESCRIPTION:Clubdag voor leden van Sint Sebastiaen
URL:https://sintsebastiaen.nl/event/clubdag/2026-05-23/
LOCATION:Sint Sebastiaen Den Haag\, Groenendaal 10\, Wassenaar\, 2244 BK\, Nederland
ORGANIZER;CN="Sint Sebastiaen":MAILTO:communicatie@sintsebastiaen.nl
END:VEVENT
END:VCALENDAR