BEGIN:VCALENDAR
VERSION:2.0
PRODID:-//Het Haagsch Handboogschuttersgilde van Sint Sebastiaen - ECPv6.15.18//NONSGML v1.0//EN
CALSCALE:GREGORIAN
METHOD:PUBLISH
X-WR-CALNAME:Het Haagsch Handboogschuttersgilde van Sint Sebastiaen
X-ORIGINAL-URL:https://sintsebastiaen.nl
X-WR-CALDESC:Evenementen voor Het Haagsch Handboogschuttersgilde van Sint Sebastiaen
REFRESH-INTERVAL;VALUE=DURATION:PT1H
X-Robots-Tag:noindex
X-PUBLISHED-TTL:PT1H
BEGIN:VTIMEZONE
TZID:Europe/Amsterdam
BEGIN:DAYLIGHT
TZOFFSETFROM:+0100
TZOFFSETTO:+0200
TZNAME:CEST
DTSTART:20250330T010000
END:DAYLIGHT
BEGIN:STANDARD
TZOFFSETFROM:+0200
TZOFFSETTO:+0100
TZNAME:CET
DTSTART:20251026T010000
END:STANDARD
BEGIN:DAYLIGHT
TZOFFSETFROM:+0100
TZOFFSETTO:+0200
TZNAME:CEST
DTSTART:20260329T010000
END:DAYLIGHT
BEGIN:STANDARD
TZOFFSETFROM:+0200
TZOFFSETTO:+0100
TZNAME:CET
DTSTART:20261025T010000
END:STANDARD
BEGIN:DAYLIGHT
TZOFFSETFROM:+0100
TZOFFSETTO:+0200
TZNAME:CEST
DTSTART:20270328T010000
END:DAYLIGHT
BEGIN:STANDARD
TZOFFSETFROM:+0200
TZOFFSETTO:+0100
TZNAME:CET
DTSTART:20271031T010000
END:STANDARD
END:VTIMEZONE
BEGIN:VEVENT
DTSTART;TZID=Europe/Amsterdam:20260315T170000
DTEND;TZID=Europe/Amsterdam:20260315T183000
DTSTAMP:20260423T123832
CREATED:20250429T085737Z
LAST-MODIFIED:20260301T194923Z
UID:10003377-1773594000-1773599400@sintsebastiaen.nl
SUMMARY:Clinic in de hal
DESCRIPTION:
URL:https://sintsebastiaen.nl/event/clinic-korte-baan-in-gebruik-bij-slecht-weer-in-de-hal/
LOCATION:Sint Sebastiaen Den Haag\, Groenendaal 10\, Wassenaar\, 2244 BK\, Nederland
ORGANIZER;CN="Sint Sebastiaen":MAILTO:communicatie@sintsebastiaen.nl
END:VEVENT
BEGIN:VEVENT
DTSTART;TZID=Europe/Amsterdam:20260318T200000
DTEND;TZID=Europe/Amsterdam:20260318T230000
DTSTAMP:20260423T123832
CREATED:20251126T200335Z
LAST-MODIFIED:20251126T200335Z
UID:10003611-1773864000-1773874800@sintsebastiaen.nl
SUMMARY:Clubavond
DESCRIPTION:Clubavond voor leden van Sint Sebastiaen
URL:https://sintsebastiaen.nl/event/clubavond/2026-03-18/
LOCATION:Sint Sebastiaen Den Haag\, Groenendaal 10\, Wassenaar\, 2244 BK\, Nederland
ORGANIZER;CN="Sint Sebastiaen":MAILTO:communicatie@sintsebastiaen.nl
END:VEVENT
BEGIN:VEVENT
DTSTART;TZID=Europe/Amsterdam:20260321T113000
DTEND;TZID=Europe/Amsterdam:20260321T130000
DTSTAMP:20260423T123832
CREATED:20221216T101727Z
LAST-MODIFIED:20221216T102334Z
UID:10002094-1774092600-1774098000@sintsebastiaen.nl
SUMMARY:Jeugd: vrij schieten\, kinderen/ouders samen schieten
DESCRIPTION:Iedere zaterdag na de jeugd cursus\, en ochtend\, kunnen ouders samen met hun kinderen schieten als beide lid zijn van de club. Daarnaast is er op deze tijden ruimte voor vrij schieten voor de jeugd.
URL:https://sintsebastiaen.nl/event/gezamelijk-schieten-ouders-jeugd/2026-03-21/
LOCATION:Sint Sebastiaen Den Haag\, Groenendaal 10\, Wassenaar\, 2244 BK\, Nederland
CATEGORIES:Vrij Schieten
ORGANIZER;CN="Sint Sebastiaen":MAILTO:communicatie@sintsebastiaen.nl
END:VEVENT
BEGIN:VEVENT
DTSTART;TZID=Europe/Amsterdam:20260321T140000
DTEND;TZID=Europe/Amsterdam:20260321T180000
DTSTAMP:20260423T123832
CREATED:20251126T201113Z
LAST-MODIFIED:20251126T201113Z
UID:10004150-1774101600-1774116000@sintsebastiaen.nl
SUMMARY:Clubdag
DESCRIPTION:Clubdag voor leden van Sint Sebastiaen
URL:https://sintsebastiaen.nl/event/clubdag/2026-03-21/
LOCATION:Sint Sebastiaen Den Haag\, Groenendaal 10\, Wassenaar\, 2244 BK\, Nederland
ORGANIZER;CN="Sint Sebastiaen":MAILTO:communicatie@sintsebastiaen.nl
END:VEVENT
BEGIN:VEVENT
DTSTART;TZID=Europe/Amsterdam:20260321T163000
DTEND;TZID=Europe/Amsterdam:20260321T193000
DTSTAMP:20260423T123832
CREATED:20250408T195548Z
LAST-MODIFIED:20260218T211657Z
UID:10003370-1774110600-1774121400@sintsebastiaen.nl
SUMMARY:Clinic_ in de hal
DESCRIPTION:
URL:https://sintsebastiaen.nl/event/clinic_-korte-baan_-rechts-bij-slecht-weer-in-de-hal-2/
LOCATION:Sint Sebastiaen Den Haag\, Groenendaal 10\, Wassenaar\, 2244 BK\, Nederland
ORGANIZER;CN="Sint Sebastiaen":MAILTO:communicatie@sintsebastiaen.nl
END:VEVENT
BEGIN:VEVENT
DTSTART;TZID=Europe/Amsterdam:20260322T140000
DTEND;TZID=Europe/Amsterdam:20260322T180000
DTSTAMP:20260423T123832
CREATED:20251126T201113Z
LAST-MODIFIED:20251126T201113Z
UID:10004151-1774188000-1774202400@sintsebastiaen.nl
SUMMARY:Clubdag
DESCRIPTION:Clubdag voor leden van Sint Sebastiaen
URL:https://sintsebastiaen.nl/event/clubdag/2026-03-22/
LOCATION:Sint Sebastiaen Den Haag\, Groenendaal 10\, Wassenaar\, 2244 BK\, Nederland
ORGANIZER;CN="Sint Sebastiaen":MAILTO:communicatie@sintsebastiaen.nl
END:VEVENT
BEGIN:VEVENT
DTSTART;TZID=Europe/Amsterdam:20260325T200000
DTEND;TZID=Europe/Amsterdam:20260325T230000
DTSTAMP:20260423T123832
CREATED:20251126T200335Z
LAST-MODIFIED:20251126T200335Z
UID:10003612-1774468800-1774479600@sintsebastiaen.nl
SUMMARY:Clubavond
DESCRIPTION:Clubavond voor leden van Sint Sebastiaen
URL:https://sintsebastiaen.nl/event/clubavond/2026-03-25/
LOCATION:Sint Sebastiaen Den Haag\, Groenendaal 10\, Wassenaar\, 2244 BK\, Nederland
ORGANIZER;CN="Sint Sebastiaen":MAILTO:communicatie@sintsebastiaen.nl
END:VEVENT
BEGIN:VEVENT
DTSTART;TZID=Europe/Amsterdam:20260328T113000
DTEND;TZID=Europe/Amsterdam:20260328T130000
DTSTAMP:20260423T123832
CREATED:20221216T101727Z
LAST-MODIFIED:20221216T102334Z
UID:10002095-1774697400-1774702800@sintsebastiaen.nl
SUMMARY:Jeugd: vrij schieten\, kinderen/ouders samen schieten
DESCRIPTION:Iedere zaterdag na de jeugd cursus\, en ochtend\, kunnen ouders samen met hun kinderen schieten als beide lid zijn van de club. Daarnaast is er op deze tijden ruimte voor vrij schieten voor de jeugd.
URL:https://sintsebastiaen.nl/event/gezamelijk-schieten-ouders-jeugd/2026-03-28/
LOCATION:Sint Sebastiaen Den Haag\, Groenendaal 10\, Wassenaar\, 2244 BK\, Nederland
CATEGORIES:Vrij Schieten
ORGANIZER;CN="Sint Sebastiaen":MAILTO:communicatie@sintsebastiaen.nl
END:VEVENT
BEGIN:VEVENT
DTSTART;TZID=Europe/Amsterdam:20260328T140000
DTEND;TZID=Europe/Amsterdam:20260328T180000
DTSTAMP:20260423T123832
CREATED:20251126T201113Z
LAST-MODIFIED:20251126T201113Z
UID:10004152-1774706400-1774720800@sintsebastiaen.nl
SUMMARY:Clubdag
DESCRIPTION:Clubdag voor leden van Sint Sebastiaen
URL:https://sintsebastiaen.nl/event/clubdag/2026-03-28/
LOCATION:Sint Sebastiaen Den Haag\, Groenendaal 10\, Wassenaar\, 2244 BK\, Nederland
ORGANIZER;CN="Sint Sebastiaen":MAILTO:communicatie@sintsebastiaen.nl
END:VEVENT
BEGIN:VEVENT
DTSTART;TZID=Europe/Amsterdam:20260329T140000
DTEND;TZID=Europe/Amsterdam:20260329T180000
DTSTAMP:20260423T123832
CREATED:20251126T201113Z
LAST-MODIFIED:20251126T201113Z
UID:10004153-1774792800-1774807200@sintsebastiaen.nl
SUMMARY:Clubdag
DESCRIPTION:Clubdag voor leden van Sint Sebastiaen
URL:https://sintsebastiaen.nl/event/clubdag/2026-03-29/
LOCATION:Sint Sebastiaen Den Haag\, Groenendaal 10\, Wassenaar\, 2244 BK\, Nederland
ORGANIZER;CN="Sint Sebastiaen":MAILTO:communicatie@sintsebastiaen.nl
END:VEVENT
BEGIN:VEVENT
DTSTART;TZID=Europe/Amsterdam:20260401T200000
DTEND;TZID=Europe/Amsterdam:20260401T230000
DTSTAMP:20260423T123832
CREATED:20251126T200335Z
LAST-MODIFIED:20251126T200335Z
UID:10003613-1775073600-1775084400@sintsebastiaen.nl
SUMMARY:Clubavond
DESCRIPTION:Clubavond voor leden van Sint Sebastiaen
URL:https://sintsebastiaen.nl/event/clubavond/2026-04-01/
LOCATION:Sint Sebastiaen Den Haag\, Groenendaal 10\, Wassenaar\, 2244 BK\, Nederland
ORGANIZER;CN="Sint Sebastiaen":MAILTO:communicatie@sintsebastiaen.nl
END:VEVENT
BEGIN:VEVENT
DTSTART;TZID=Europe/Amsterdam:20260402T180000
DTEND;TZID=Europe/Amsterdam:20260402T210000
DTSTAMP:20260423T123832
CREATED:20250509T193745Z
LAST-MODIFIED:20260330T194435Z
UID:10003381-1775152800-1775163600@sintsebastiaen.nl
SUMMARY:Clinic - in de hal
DESCRIPTION:
URL:https://sintsebastiaen.nl/event/clinic-korte-baan-bij-slecht-weer-in-de-hal-2/
LOCATION:Sint Sebastiaen Den Haag\, Groenendaal 10\, Wassenaar\, 2244 BK\, Nederland
ORGANIZER;CN="Sint Sebastiaen":MAILTO:communicatie@sintsebastiaen.nl
END:VEVENT
BEGIN:VEVENT
DTSTART;TZID=Europe/Amsterdam:20260404T113000
DTEND;TZID=Europe/Amsterdam:20260404T130000
DTSTAMP:20260423T123832
CREATED:20221216T101727Z
LAST-MODIFIED:20221216T102334Z
UID:10002096-1775302200-1775307600@sintsebastiaen.nl
SUMMARY:Jeugd: vrij schieten\, kinderen/ouders samen schieten
DESCRIPTION:Iedere zaterdag na de jeugd cursus\, en ochtend\, kunnen ouders samen met hun kinderen schieten als beide lid zijn van de club. Daarnaast is er op deze tijden ruimte voor vrij schieten voor de jeugd.
URL:https://sintsebastiaen.nl/event/gezamelijk-schieten-ouders-jeugd/2026-04-04/
LOCATION:Sint Sebastiaen Den Haag\, Groenendaal 10\, Wassenaar\, 2244 BK\, Nederland
CATEGORIES:Vrij Schieten
ORGANIZER;CN="Sint Sebastiaen":MAILTO:communicatie@sintsebastiaen.nl
END:VEVENT
BEGIN:VEVENT
DTSTART;TZID=Europe/Amsterdam:20260404T140000
DTEND;TZID=Europe/Amsterdam:20260404T180000
DTSTAMP:20260423T123832
CREATED:20251126T201113Z
LAST-MODIFIED:20251126T201113Z
UID:10004154-1775311200-1775325600@sintsebastiaen.nl
SUMMARY:Clubdag
DESCRIPTION:Clubdag voor leden van Sint Sebastiaen
URL:https://sintsebastiaen.nl/event/clubdag/2026-04-04/
LOCATION:Sint Sebastiaen Den Haag\, Groenendaal 10\, Wassenaar\, 2244 BK\, Nederland
ORGANIZER;CN="Sint Sebastiaen":MAILTO:communicatie@sintsebastiaen.nl
END:VEVENT
BEGIN:VEVENT
DTSTART;TZID=Europe/Amsterdam:20260405T140000
DTEND;TZID=Europe/Amsterdam:20260405T180000
DTSTAMP:20260423T123832
CREATED:20251126T201113Z
LAST-MODIFIED:20251126T201113Z
UID:10004155-1775397600-1775412000@sintsebastiaen.nl
SUMMARY:Clubdag
DESCRIPTION:Clubdag voor leden van Sint Sebastiaen
URL:https://sintsebastiaen.nl/event/clubdag/2026-04-05/
LOCATION:Sint Sebastiaen Den Haag\, Groenendaal 10\, Wassenaar\, 2244 BK\, Nederland
ORGANIZER;CN="Sint Sebastiaen":MAILTO:communicatie@sintsebastiaen.nl
END:VEVENT
BEGIN:VEVENT
DTSTART;TZID=Europe/Amsterdam:20260406T200000
DTEND;TZID=Europe/Amsterdam:20260406T223000
DTSTAMP:20260423T123832
CREATED:20260213T132434Z
LAST-MODIFIED:20260213T132609Z
UID:10004657-1775505600-1775514600@sintsebastiaen.nl
SUMMARY:Voorjaarscursus 2026
DESCRIPTION:
URL:https://sintsebastiaen.nl/event/voorjaarscursus-2026/2026-04-06/
LOCATION:Sint Sebastiaen Den Haag\, Groenendaal 10\, Wassenaar\, 2244 BK\, Nederland
ORGANIZER;CN="Sint Sebastiaen":MAILTO:communicatie@sintsebastiaen.nl
END:VEVENT
BEGIN:VEVENT
DTSTART;TZID=Europe/Amsterdam:20260407T200000
DTEND;TZID=Europe/Amsterdam:20260407T223000
DTSTAMP:20260423T123832
CREATED:20260213T132434Z
LAST-MODIFIED:20260213T132609Z
UID:10004658-1775592000-1775601000@sintsebastiaen.nl
SUMMARY:Voorjaarscursus 2026
DESCRIPTION:
URL:https://sintsebastiaen.nl/event/voorjaarscursus-2026/2026-04-07/
LOCATION:Sint Sebastiaen Den Haag\, Groenendaal 10\, Wassenaar\, 2244 BK\, Nederland
ORGANIZER;CN="Sint Sebastiaen":MAILTO:communicatie@sintsebastiaen.nl
END:VEVENT
BEGIN:VEVENT
DTSTART;TZID=Europe/Amsterdam:20260408T200000
DTEND;TZID=Europe/Amsterdam:20260408T230000
DTSTAMP:20260423T123832
CREATED:20251126T200335Z
LAST-MODIFIED:20251126T200335Z
UID:10003614-1775678400-1775689200@sintsebastiaen.nl
SUMMARY:Clubavond
DESCRIPTION:Clubavond voor leden van Sint Sebastiaen
URL:https://sintsebastiaen.nl/event/clubavond/2026-04-08/
LOCATION:Sint Sebastiaen Den Haag\, Groenendaal 10\, Wassenaar\, 2244 BK\, Nederland
ORGANIZER;CN="Sint Sebastiaen":MAILTO:communicatie@sintsebastiaen.nl
END:VEVENT
BEGIN:VEVENT
DTSTART;TZID=Europe/Amsterdam:20260411T113000
DTEND;TZID=Europe/Amsterdam:20260411T130000
DTSTAMP:20260423T123832
CREATED:20221216T101727Z
LAST-MODIFIED:20221216T102334Z
UID:10002097-1775907000-1775912400@sintsebastiaen.nl
SUMMARY:Jeugd: vrij schieten\, kinderen/ouders samen schieten
DESCRIPTION:Iedere zaterdag na de jeugd cursus\, en ochtend\, kunnen ouders samen met hun kinderen schieten als beide lid zijn van de club. Daarnaast is er op deze tijden ruimte voor vrij schieten voor de jeugd.
URL:https://sintsebastiaen.nl/event/gezamelijk-schieten-ouders-jeugd/2026-04-11/
LOCATION:Sint Sebastiaen Den Haag\, Groenendaal 10\, Wassenaar\, 2244 BK\, Nederland
CATEGORIES:Vrij Schieten
ORGANIZER;CN="Sint Sebastiaen":MAILTO:communicatie@sintsebastiaen.nl
END:VEVENT
BEGIN:VEVENT
DTSTART;TZID=Europe/Amsterdam:20260411T140000
DTEND;TZID=Europe/Amsterdam:20260411T180000
DTSTAMP:20260423T123832
CREATED:20251126T201113Z
LAST-MODIFIED:20251126T201113Z
UID:10004156-1775916000-1775930400@sintsebastiaen.nl
SUMMARY:Clubdag
DESCRIPTION:Clubdag voor leden van Sint Sebastiaen
URL:https://sintsebastiaen.nl/event/clubdag/2026-04-11/
LOCATION:Sint Sebastiaen Den Haag\, Groenendaal 10\, Wassenaar\, 2244 BK\, Nederland
ORGANIZER;CN="Sint Sebastiaen":MAILTO:communicatie@sintsebastiaen.nl
END:VEVENT
BEGIN:VEVENT
DTSTART;TZID=Europe/Amsterdam:20260412T140000
DTEND;TZID=Europe/Amsterdam:20260412T180000
DTSTAMP:20260423T123832
CREATED:20251126T201113Z
LAST-MODIFIED:20251126T201113Z
UID:10004157-1776002400-1776016800@sintsebastiaen.nl
SUMMARY:Clubdag
DESCRIPTION:Clubdag voor leden van Sint Sebastiaen
URL:https://sintsebastiaen.nl/event/clubdag/2026-04-12/
LOCATION:Sint Sebastiaen Den Haag\, Groenendaal 10\, Wassenaar\, 2244 BK\, Nederland
ORGANIZER;CN="Sint Sebastiaen":MAILTO:communicatie@sintsebastiaen.nl
END:VEVENT
BEGIN:VEVENT
DTSTART;TZID=Europe/Amsterdam:20260413T200000
DTEND;TZID=Europe/Amsterdam:20260413T223000
DTSTAMP:20260423T123832
CREATED:20260213T132434Z
LAST-MODIFIED:20260213T132609Z
UID:10004659-1776110400-1776119400@sintsebastiaen.nl
SUMMARY:Voorjaarscursus 2026
DESCRIPTION:
URL:https://sintsebastiaen.nl/event/voorjaarscursus-2026/2026-04-13/
LOCATION:Sint Sebastiaen Den Haag\, Groenendaal 10\, Wassenaar\, 2244 BK\, Nederland
ORGANIZER;CN="Sint Sebastiaen":MAILTO:communicatie@sintsebastiaen.nl
END:VEVENT
BEGIN:VEVENT
DTSTART;TZID=Europe/Amsterdam:20260414T200000
DTEND;TZID=Europe/Amsterdam:20260414T223000
DTSTAMP:20260423T123832
CREATED:20260213T132434Z
LAST-MODIFIED:20260213T132609Z
UID:10004660-1776196800-1776205800@sintsebastiaen.nl
SUMMARY:Voorjaarscursus 2026
DESCRIPTION:
URL:https://sintsebastiaen.nl/event/voorjaarscursus-2026/2026-04-14/
LOCATION:Sint Sebastiaen Den Haag\, Groenendaal 10\, Wassenaar\, 2244 BK\, Nederland
ORGANIZER;CN="Sint Sebastiaen":MAILTO:communicatie@sintsebastiaen.nl
END:VEVENT
BEGIN:VEVENT
DTSTART;TZID=Europe/Amsterdam:20260415T200000
DTEND;TZID=Europe/Amsterdam:20260415T230000
DTSTAMP:20260423T123832
CREATED:20251126T200335Z
LAST-MODIFIED:20251126T200335Z
UID:10003615-1776283200-1776294000@sintsebastiaen.nl
SUMMARY:Clubavond
DESCRIPTION:Clubavond voor leden van Sint Sebastiaen
URL:https://sintsebastiaen.nl/event/clubavond/2026-04-15/
LOCATION:Sint Sebastiaen Den Haag\, Groenendaal 10\, Wassenaar\, 2244 BK\, Nederland
ORGANIZER;CN="Sint Sebastiaen":MAILTO:communicatie@sintsebastiaen.nl
END:VEVENT
BEGIN:VEVENT
DTSTART;TZID=Europe/Amsterdam:20260418T113000
DTEND;TZID=Europe/Amsterdam:20260418T130000
DTSTAMP:20260423T123832
CREATED:20221216T101727Z
LAST-MODIFIED:20221216T102334Z
UID:10002098-1776511800-1776517200@sintsebastiaen.nl
SUMMARY:Jeugd: vrij schieten\, kinderen/ouders samen schieten
DESCRIPTION:Iedere zaterdag na de jeugd cursus\, en ochtend\, kunnen ouders samen met hun kinderen schieten als beide lid zijn van de club. Daarnaast is er op deze tijden ruimte voor vrij schieten voor de jeugd.
URL:https://sintsebastiaen.nl/event/gezamelijk-schieten-ouders-jeugd/2026-04-18/
LOCATION:Sint Sebastiaen Den Haag\, Groenendaal 10\, Wassenaar\, 2244 BK\, Nederland
CATEGORIES:Vrij Schieten
ORGANIZER;CN="Sint Sebastiaen":MAILTO:communicatie@sintsebastiaen.nl
END:VEVENT
BEGIN:VEVENT
DTSTART;TZID=Europe/Amsterdam:20260418T133000
DTEND;TZID=Europe/Amsterdam:20260418T160000
DTSTAMP:20260423T123832
CREATED:20250408T195116Z
LAST-MODIFIED:20260327T204218Z
UID:10003369-1776519000-1776528000@sintsebastiaen.nl
SUMMARY:Clinic_ op de korte baan
DESCRIPTION:
URL:https://sintsebastiaen.nl/event/clinic_-korte-baan_-rechts-bij-slecht-weer-in-de-hal/
LOCATION:Sint Sebastiaen Den Haag\, Groenendaal 10\, Wassenaar\, 2244 BK\, Nederland
ORGANIZER;CN="Sint Sebastiaen":MAILTO:communicatie@sintsebastiaen.nl
END:VEVENT
BEGIN:VEVENT
DTSTART;TZID=Europe/Amsterdam:20260418T140000
DTEND;TZID=Europe/Amsterdam:20260418T180000
DTSTAMP:20260423T123832
CREATED:20251126T201113Z
LAST-MODIFIED:20251126T201113Z
UID:10004158-1776520800-1776535200@sintsebastiaen.nl
SUMMARY:Clubdag
DESCRIPTION:Clubdag voor leden van Sint Sebastiaen
URL:https://sintsebastiaen.nl/event/clubdag/2026-04-18/
LOCATION:Sint Sebastiaen Den Haag\, Groenendaal 10\, Wassenaar\, 2244 BK\, Nederland
ORGANIZER;CN="Sint Sebastiaen":MAILTO:communicatie@sintsebastiaen.nl
END:VEVENT
BEGIN:VEVENT
DTSTART;TZID=Europe/Amsterdam:20260419T140000
DTEND;TZID=Europe/Amsterdam:20260419T180000
DTSTAMP:20260423T123832
CREATED:20251126T201113Z
LAST-MODIFIED:20251126T201113Z
UID:10004159-1776607200-1776621600@sintsebastiaen.nl
SUMMARY:Clubdag
DESCRIPTION:Clubdag voor leden van Sint Sebastiaen
URL:https://sintsebastiaen.nl/event/clubdag/2026-04-19/
LOCATION:Sint Sebastiaen Den Haag\, Groenendaal 10\, Wassenaar\, 2244 BK\, Nederland
ORGANIZER;CN="Sint Sebastiaen":MAILTO:communicatie@sintsebastiaen.nl
END:VEVENT
BEGIN:VEVENT
DTSTART;TZID=Europe/Amsterdam:20260420T200000
DTEND;TZID=Europe/Amsterdam:20260420T223000
DTSTAMP:20260423T123832
CREATED:20260213T132434Z
LAST-MODIFIED:20260213T132609Z
UID:10004661-1776715200-1776724200@sintsebastiaen.nl
SUMMARY:Voorjaarscursus 2026
DESCRIPTION:
URL:https://sintsebastiaen.nl/event/voorjaarscursus-2026/2026-04-20/
LOCATION:Sint Sebastiaen Den Haag\, Groenendaal 10\, Wassenaar\, 2244 BK\, Nederland
ORGANIZER;CN="Sint Sebastiaen":MAILTO:communicatie@sintsebastiaen.nl
END:VEVENT
BEGIN:VEVENT
DTSTART;TZID=Europe/Amsterdam:20260421T200000
DTEND;TZID=Europe/Amsterdam:20260421T223000
DTSTAMP:20260423T123832
CREATED:20260213T132434Z
LAST-MODIFIED:20260213T132609Z
UID:10004662-1776801600-1776810600@sintsebastiaen.nl
SUMMARY:Voorjaarscursus 2026
DESCRIPTION:
URL:https://sintsebastiaen.nl/event/voorjaarscursus-2026/2026-04-21/
LOCATION:Sint Sebastiaen Den Haag\, Groenendaal 10\, Wassenaar\, 2244 BK\, Nederland
ORGANIZER;CN="Sint Sebastiaen":MAILTO:communicatie@sintsebastiaen.nl
END:VEVENT
END:VCALENDAR