BEGIN:VCALENDAR
VERSION:2.0
PRODID:-//Het Haagsch Handboogschuttersgilde van Sint Sebastiaen - ECPv6.15.18//NONSGML v1.0//EN
CALSCALE:GREGORIAN
METHOD:PUBLISH
X-WR-CALNAME:Het Haagsch Handboogschuttersgilde van Sint Sebastiaen
X-ORIGINAL-URL:https://sintsebastiaen.nl
X-WR-CALDESC:Evenementen voor Het Haagsch Handboogschuttersgilde van Sint Sebastiaen
REFRESH-INTERVAL;VALUE=DURATION:PT1H
X-Robots-Tag:noindex
X-PUBLISHED-TTL:PT1H
BEGIN:VTIMEZONE
TZID:Europe/Amsterdam
BEGIN:DAYLIGHT
TZOFFSETFROM:+0100
TZOFFSETTO:+0200
TZNAME:CEST
DTSTART:20250330T010000
END:DAYLIGHT
BEGIN:STANDARD
TZOFFSETFROM:+0200
TZOFFSETTO:+0100
TZNAME:CET
DTSTART:20251026T010000
END:STANDARD
BEGIN:DAYLIGHT
TZOFFSETFROM:+0100
TZOFFSETTO:+0200
TZNAME:CEST
DTSTART:20260329T010000
END:DAYLIGHT
BEGIN:STANDARD
TZOFFSETFROM:+0200
TZOFFSETTO:+0100
TZNAME:CET
DTSTART:20261025T010000
END:STANDARD
BEGIN:DAYLIGHT
TZOFFSETFROM:+0100
TZOFFSETTO:+0200
TZNAME:CEST
DTSTART:20270328T010000
END:DAYLIGHT
BEGIN:STANDARD
TZOFFSETFROM:+0200
TZOFFSETTO:+0100
TZNAME:CET
DTSTART:20271031T010000
END:STANDARD
END:VTIMEZONE
BEGIN:VEVENT
DTSTART;TZID=Europe/Amsterdam:20261018T140000
DTEND;TZID=Europe/Amsterdam:20261018T180000
DTSTAMP:20260420T090422
CREATED:20251126T201113Z
LAST-MODIFIED:20251126T201113Z
UID:10004211-1792332000-1792346400@sintsebastiaen.nl
SUMMARY:Clubdag
DESCRIPTION:Clubdag voor leden van Sint Sebastiaen
URL:https://sintsebastiaen.nl/event/clubdag/2026-10-18/
LOCATION:Sint Sebastiaen Den Haag\, Groenendaal 10\, Wassenaar\, 2244 BK\, Nederland
ORGANIZER;CN="Sint Sebastiaen":MAILTO:communicatie@sintsebastiaen.nl
END:VEVENT
BEGIN:VEVENT
DTSTART;TZID=Europe/Amsterdam:20261021T200000
DTEND;TZID=Europe/Amsterdam:20261021T230000
DTSTAMP:20260420T090422
CREATED:20251126T200335Z
LAST-MODIFIED:20251126T200335Z
UID:10003642-1792612800-1792623600@sintsebastiaen.nl
SUMMARY:Clubavond
DESCRIPTION:Clubavond voor leden van Sint Sebastiaen
URL:https://sintsebastiaen.nl/event/clubavond/2026-10-21/
LOCATION:Sint Sebastiaen Den Haag\, Groenendaal 10\, Wassenaar\, 2244 BK\, Nederland
ORGANIZER;CN="Sint Sebastiaen":MAILTO:communicatie@sintsebastiaen.nl
END:VEVENT
BEGIN:VEVENT
DTSTART;TZID=Europe/Amsterdam:20261024T113000
DTEND;TZID=Europe/Amsterdam:20261024T130000
DTSTAMP:20260420T090422
CREATED:20221216T101727Z
LAST-MODIFIED:20221216T102334Z
UID:10002125-1792841400-1792846800@sintsebastiaen.nl
SUMMARY:Jeugd: vrij schieten\, kinderen/ouders samen schieten
DESCRIPTION:Iedere zaterdag na de jeugd cursus\, en ochtend\, kunnen ouders samen met hun kinderen schieten als beide lid zijn van de club. Daarnaast is er op deze tijden ruimte voor vrij schieten voor de jeugd.
URL:https://sintsebastiaen.nl/event/gezamelijk-schieten-ouders-jeugd/2026-10-24/
LOCATION:Sint Sebastiaen Den Haag\, Groenendaal 10\, Wassenaar\, 2244 BK\, Nederland
CATEGORIES:Vrij Schieten
ORGANIZER;CN="Sint Sebastiaen":MAILTO:communicatie@sintsebastiaen.nl
END:VEVENT
BEGIN:VEVENT
DTSTART;TZID=Europe/Amsterdam:20261024T140000
DTEND;TZID=Europe/Amsterdam:20261024T180000
DTSTAMP:20260420T090422
CREATED:20251126T201113Z
LAST-MODIFIED:20251126T201113Z
UID:10004212-1792850400-1792864800@sintsebastiaen.nl
SUMMARY:Clubdag
DESCRIPTION:Clubdag voor leden van Sint Sebastiaen
URL:https://sintsebastiaen.nl/event/clubdag/2026-10-24/
LOCATION:Sint Sebastiaen Den Haag\, Groenendaal 10\, Wassenaar\, 2244 BK\, Nederland
ORGANIZER;CN="Sint Sebastiaen":MAILTO:communicatie@sintsebastiaen.nl
END:VEVENT
BEGIN:VEVENT
DTSTART;TZID=Europe/Amsterdam:20261025T140000
DTEND;TZID=Europe/Amsterdam:20261025T180000
DTSTAMP:20260420T090422
CREATED:20251126T201113Z
LAST-MODIFIED:20251126T201113Z
UID:10004213-1792936800-1792951200@sintsebastiaen.nl
SUMMARY:Clubdag
DESCRIPTION:Clubdag voor leden van Sint Sebastiaen
URL:https://sintsebastiaen.nl/event/clubdag/2026-10-25/
LOCATION:Sint Sebastiaen Den Haag\, Groenendaal 10\, Wassenaar\, 2244 BK\, Nederland
ORGANIZER;CN="Sint Sebastiaen":MAILTO:communicatie@sintsebastiaen.nl
END:VEVENT
BEGIN:VEVENT
DTSTART;TZID=Europe/Amsterdam:20261028T200000
DTEND;TZID=Europe/Amsterdam:20261028T230000
DTSTAMP:20260420T090422
CREATED:20251126T200335Z
LAST-MODIFIED:20251126T200335Z
UID:10003643-1793217600-1793228400@sintsebastiaen.nl
SUMMARY:Clubavond
DESCRIPTION:Clubavond voor leden van Sint Sebastiaen
URL:https://sintsebastiaen.nl/event/clubavond/2026-10-28/
LOCATION:Sint Sebastiaen Den Haag\, Groenendaal 10\, Wassenaar\, 2244 BK\, Nederland
ORGANIZER;CN="Sint Sebastiaen":MAILTO:communicatie@sintsebastiaen.nl
END:VEVENT
BEGIN:VEVENT
DTSTART;TZID=Europe/Amsterdam:20261031T113000
DTEND;TZID=Europe/Amsterdam:20261031T130000
DTSTAMP:20260420T090422
CREATED:20221216T101727Z
LAST-MODIFIED:20221216T102334Z
UID:10002126-1793446200-1793451600@sintsebastiaen.nl
SUMMARY:Jeugd: vrij schieten\, kinderen/ouders samen schieten
DESCRIPTION:Iedere zaterdag na de jeugd cursus\, en ochtend\, kunnen ouders samen met hun kinderen schieten als beide lid zijn van de club. Daarnaast is er op deze tijden ruimte voor vrij schieten voor de jeugd.
URL:https://sintsebastiaen.nl/event/gezamelijk-schieten-ouders-jeugd/2026-10-31/
LOCATION:Sint Sebastiaen Den Haag\, Groenendaal 10\, Wassenaar\, 2244 BK\, Nederland
CATEGORIES:Vrij Schieten
ORGANIZER;CN="Sint Sebastiaen":MAILTO:communicatie@sintsebastiaen.nl
END:VEVENT
BEGIN:VEVENT
DTSTART;TZID=Europe/Amsterdam:20261031T140000
DTEND;TZID=Europe/Amsterdam:20261031T180000
DTSTAMP:20260420T090422
CREATED:20251126T201113Z
LAST-MODIFIED:20251126T201113Z
UID:10004214-1793455200-1793469600@sintsebastiaen.nl
SUMMARY:Clubdag
DESCRIPTION:Clubdag voor leden van Sint Sebastiaen
URL:https://sintsebastiaen.nl/event/clubdag/2026-10-31/
LOCATION:Sint Sebastiaen Den Haag\, Groenendaal 10\, Wassenaar\, 2244 BK\, Nederland
ORGANIZER;CN="Sint Sebastiaen":MAILTO:communicatie@sintsebastiaen.nl
END:VEVENT
BEGIN:VEVENT
DTSTART;TZID=Europe/Amsterdam:20261101T140000
DTEND;TZID=Europe/Amsterdam:20261101T180000
DTSTAMP:20260420T090422
CREATED:20251126T201113Z
LAST-MODIFIED:20251126T201113Z
UID:10004215-1793541600-1793556000@sintsebastiaen.nl
SUMMARY:Clubdag
DESCRIPTION:Clubdag voor leden van Sint Sebastiaen
URL:https://sintsebastiaen.nl/event/clubdag/2026-11-01/
LOCATION:Sint Sebastiaen Den Haag\, Groenendaal 10\, Wassenaar\, 2244 BK\, Nederland
ORGANIZER;CN="Sint Sebastiaen":MAILTO:communicatie@sintsebastiaen.nl
END:VEVENT
BEGIN:VEVENT
DTSTART;TZID=Europe/Amsterdam:20261104T200000
DTEND;TZID=Europe/Amsterdam:20261104T230000
DTSTAMP:20260420T090422
CREATED:20251126T200335Z
LAST-MODIFIED:20251126T200335Z
UID:10003644-1793822400-1793833200@sintsebastiaen.nl
SUMMARY:Clubavond
DESCRIPTION:Clubavond voor leden van Sint Sebastiaen
URL:https://sintsebastiaen.nl/event/clubavond/2026-11-04/
LOCATION:Sint Sebastiaen Den Haag\, Groenendaal 10\, Wassenaar\, 2244 BK\, Nederland
ORGANIZER;CN="Sint Sebastiaen":MAILTO:communicatie@sintsebastiaen.nl
END:VEVENT
BEGIN:VEVENT
DTSTART;TZID=Europe/Amsterdam:20261107T113000
DTEND;TZID=Europe/Amsterdam:20261107T130000
DTSTAMP:20260420T090422
CREATED:20221216T101727Z
LAST-MODIFIED:20221216T102334Z
UID:10002127-1794051000-1794056400@sintsebastiaen.nl
SUMMARY:Jeugd: vrij schieten\, kinderen/ouders samen schieten
DESCRIPTION:Iedere zaterdag na de jeugd cursus\, en ochtend\, kunnen ouders samen met hun kinderen schieten als beide lid zijn van de club. Daarnaast is er op deze tijden ruimte voor vrij schieten voor de jeugd.
URL:https://sintsebastiaen.nl/event/gezamelijk-schieten-ouders-jeugd/2026-11-07/
LOCATION:Sint Sebastiaen Den Haag\, Groenendaal 10\, Wassenaar\, 2244 BK\, Nederland
CATEGORIES:Vrij Schieten
ORGANIZER;CN="Sint Sebastiaen":MAILTO:communicatie@sintsebastiaen.nl
END:VEVENT
BEGIN:VEVENT
DTSTART;TZID=Europe/Amsterdam:20261107T140000
DTEND;TZID=Europe/Amsterdam:20261107T180000
DTSTAMP:20260420T090422
CREATED:20251126T201113Z
LAST-MODIFIED:20251126T201113Z
UID:10004216-1794060000-1794074400@sintsebastiaen.nl
SUMMARY:Clubdag
DESCRIPTION:Clubdag voor leden van Sint Sebastiaen
URL:https://sintsebastiaen.nl/event/clubdag/2026-11-07/
LOCATION:Sint Sebastiaen Den Haag\, Groenendaal 10\, Wassenaar\, 2244 BK\, Nederland
ORGANIZER;CN="Sint Sebastiaen":MAILTO:communicatie@sintsebastiaen.nl
END:VEVENT
BEGIN:VEVENT
DTSTART;TZID=Europe/Amsterdam:20261108T140000
DTEND;TZID=Europe/Amsterdam:20261108T180000
DTSTAMP:20260420T090422
CREATED:20251126T201113Z
LAST-MODIFIED:20251126T201113Z
UID:10004217-1794146400-1794160800@sintsebastiaen.nl
SUMMARY:Clubdag
DESCRIPTION:Clubdag voor leden van Sint Sebastiaen
URL:https://sintsebastiaen.nl/event/clubdag/2026-11-08/
LOCATION:Sint Sebastiaen Den Haag\, Groenendaal 10\, Wassenaar\, 2244 BK\, Nederland
ORGANIZER;CN="Sint Sebastiaen":MAILTO:communicatie@sintsebastiaen.nl
END:VEVENT
BEGIN:VEVENT
DTSTART;TZID=Europe/Amsterdam:20261111T200000
DTEND;TZID=Europe/Amsterdam:20261111T230000
DTSTAMP:20260420T090422
CREATED:20251126T200335Z
LAST-MODIFIED:20251126T200335Z
UID:10003645-1794427200-1794438000@sintsebastiaen.nl
SUMMARY:Clubavond
DESCRIPTION:Clubavond voor leden van Sint Sebastiaen
URL:https://sintsebastiaen.nl/event/clubavond/2026-11-11/
LOCATION:Sint Sebastiaen Den Haag\, Groenendaal 10\, Wassenaar\, 2244 BK\, Nederland
ORGANIZER;CN="Sint Sebastiaen":MAILTO:communicatie@sintsebastiaen.nl
END:VEVENT
BEGIN:VEVENT
DTSTART;TZID=Europe/Amsterdam:20261114T113000
DTEND;TZID=Europe/Amsterdam:20261114T130000
DTSTAMP:20260420T090422
CREATED:20221216T101727Z
LAST-MODIFIED:20221216T102334Z
UID:10002128-1794655800-1794661200@sintsebastiaen.nl
SUMMARY:Jeugd: vrij schieten\, kinderen/ouders samen schieten
DESCRIPTION:Iedere zaterdag na de jeugd cursus\, en ochtend\, kunnen ouders samen met hun kinderen schieten als beide lid zijn van de club. Daarnaast is er op deze tijden ruimte voor vrij schieten voor de jeugd.
URL:https://sintsebastiaen.nl/event/gezamelijk-schieten-ouders-jeugd/2026-11-14/
LOCATION:Sint Sebastiaen Den Haag\, Groenendaal 10\, Wassenaar\, 2244 BK\, Nederland
CATEGORIES:Vrij Schieten
ORGANIZER;CN="Sint Sebastiaen":MAILTO:communicatie@sintsebastiaen.nl
END:VEVENT
BEGIN:VEVENT
DTSTART;TZID=Europe/Amsterdam:20261114T140000
DTEND;TZID=Europe/Amsterdam:20261114T180000
DTSTAMP:20260420T090422
CREATED:20251126T201113Z
LAST-MODIFIED:20251126T201113Z
UID:10004218-1794664800-1794679200@sintsebastiaen.nl
SUMMARY:Clubdag
DESCRIPTION:Clubdag voor leden van Sint Sebastiaen
URL:https://sintsebastiaen.nl/event/clubdag/2026-11-14/
LOCATION:Sint Sebastiaen Den Haag\, Groenendaal 10\, Wassenaar\, 2244 BK\, Nederland
ORGANIZER;CN="Sint Sebastiaen":MAILTO:communicatie@sintsebastiaen.nl
END:VEVENT
BEGIN:VEVENT
DTSTART;TZID=Europe/Amsterdam:20261115T140000
DTEND;TZID=Europe/Amsterdam:20261115T180000
DTSTAMP:20260420T090422
CREATED:20251126T201113Z
LAST-MODIFIED:20251126T201113Z
UID:10004219-1794751200-1794765600@sintsebastiaen.nl
SUMMARY:Clubdag
DESCRIPTION:Clubdag voor leden van Sint Sebastiaen
URL:https://sintsebastiaen.nl/event/clubdag/2026-11-15/
LOCATION:Sint Sebastiaen Den Haag\, Groenendaal 10\, Wassenaar\, 2244 BK\, Nederland
ORGANIZER;CN="Sint Sebastiaen":MAILTO:communicatie@sintsebastiaen.nl
END:VEVENT
BEGIN:VEVENT
DTSTART;TZID=Europe/Amsterdam:20261118T200000
DTEND;TZID=Europe/Amsterdam:20261118T230000
DTSTAMP:20260420T090422
CREATED:20251126T200335Z
LAST-MODIFIED:20251126T200335Z
UID:10003646-1795032000-1795042800@sintsebastiaen.nl
SUMMARY:Clubavond
DESCRIPTION:Clubavond voor leden van Sint Sebastiaen
URL:https://sintsebastiaen.nl/event/clubavond/2026-11-18/
LOCATION:Sint Sebastiaen Den Haag\, Groenendaal 10\, Wassenaar\, 2244 BK\, Nederland
ORGANIZER;CN="Sint Sebastiaen":MAILTO:communicatie@sintsebastiaen.nl
END:VEVENT
BEGIN:VEVENT
DTSTART;TZID=Europe/Amsterdam:20261121T113000
DTEND;TZID=Europe/Amsterdam:20261121T130000
DTSTAMP:20260420T090422
CREATED:20221216T101727Z
LAST-MODIFIED:20221216T102334Z
UID:10002129-1795260600-1795266000@sintsebastiaen.nl
SUMMARY:Jeugd: vrij schieten\, kinderen/ouders samen schieten
DESCRIPTION:Iedere zaterdag na de jeugd cursus\, en ochtend\, kunnen ouders samen met hun kinderen schieten als beide lid zijn van de club. Daarnaast is er op deze tijden ruimte voor vrij schieten voor de jeugd.
URL:https://sintsebastiaen.nl/event/gezamelijk-schieten-ouders-jeugd/2026-11-21/
LOCATION:Sint Sebastiaen Den Haag\, Groenendaal 10\, Wassenaar\, 2244 BK\, Nederland
CATEGORIES:Vrij Schieten
ORGANIZER;CN="Sint Sebastiaen":MAILTO:communicatie@sintsebastiaen.nl
END:VEVENT
BEGIN:VEVENT
DTSTART;TZID=Europe/Amsterdam:20261121T140000
DTEND;TZID=Europe/Amsterdam:20261121T180000
DTSTAMP:20260420T090422
CREATED:20251126T201113Z
LAST-MODIFIED:20251126T201113Z
UID:10004220-1795269600-1795284000@sintsebastiaen.nl
SUMMARY:Clubdag
DESCRIPTION:Clubdag voor leden van Sint Sebastiaen
URL:https://sintsebastiaen.nl/event/clubdag/2026-11-21/
LOCATION:Sint Sebastiaen Den Haag\, Groenendaal 10\, Wassenaar\, 2244 BK\, Nederland
ORGANIZER;CN="Sint Sebastiaen":MAILTO:communicatie@sintsebastiaen.nl
END:VEVENT
BEGIN:VEVENT
DTSTART;TZID=Europe/Amsterdam:20261122T140000
DTEND;TZID=Europe/Amsterdam:20261122T180000
DTSTAMP:20260420T090422
CREATED:20251126T201113Z
LAST-MODIFIED:20251126T201113Z
UID:10004221-1795356000-1795370400@sintsebastiaen.nl
SUMMARY:Clubdag
DESCRIPTION:Clubdag voor leden van Sint Sebastiaen
URL:https://sintsebastiaen.nl/event/clubdag/2026-11-22/
LOCATION:Sint Sebastiaen Den Haag\, Groenendaal 10\, Wassenaar\, 2244 BK\, Nederland
ORGANIZER;CN="Sint Sebastiaen":MAILTO:communicatie@sintsebastiaen.nl
END:VEVENT
BEGIN:VEVENT
DTSTART;TZID=Europe/Amsterdam:20261125T200000
DTEND;TZID=Europe/Amsterdam:20261125T223000
DTSTAMP:20260420T090422
CREATED:20260213T132223Z
LAST-MODIFIED:20260213T132223Z
UID:10004656-1795636800-1795645800@sintsebastiaen.nl
SUMMARY:Najaars ALV  Banen gesloten
DESCRIPTION:
URL:https://sintsebastiaen.nl/event/najaars-alv-banen-gesloten/
LOCATION:Sint Sebastiaen Den Haag\, Groenendaal 10\, Wassenaar\, 2244 BK\, Nederland
ORGANIZER;CN="Sint Sebastiaen":MAILTO:communicatie@sintsebastiaen.nl
END:VEVENT
BEGIN:VEVENT
DTSTART;TZID=Europe/Amsterdam:20261125T200000
DTEND;TZID=Europe/Amsterdam:20261125T230000
DTSTAMP:20260420T090422
CREATED:20251126T200335Z
LAST-MODIFIED:20251126T200335Z
UID:10003647-1795636800-1795647600@sintsebastiaen.nl
SUMMARY:Clubavond
DESCRIPTION:Clubavond voor leden van Sint Sebastiaen
URL:https://sintsebastiaen.nl/event/clubavond/2026-11-25/
LOCATION:Sint Sebastiaen Den Haag\, Groenendaal 10\, Wassenaar\, 2244 BK\, Nederland
ORGANIZER;CN="Sint Sebastiaen":MAILTO:communicatie@sintsebastiaen.nl
END:VEVENT
BEGIN:VEVENT
DTSTART;TZID=Europe/Amsterdam:20261128T113000
DTEND;TZID=Europe/Amsterdam:20261128T130000
DTSTAMP:20260420T090422
CREATED:20221216T101727Z
LAST-MODIFIED:20221216T102334Z
UID:10002130-1795865400-1795870800@sintsebastiaen.nl
SUMMARY:Jeugd: vrij schieten\, kinderen/ouders samen schieten
DESCRIPTION:Iedere zaterdag na de jeugd cursus\, en ochtend\, kunnen ouders samen met hun kinderen schieten als beide lid zijn van de club. Daarnaast is er op deze tijden ruimte voor vrij schieten voor de jeugd.
URL:https://sintsebastiaen.nl/event/gezamelijk-schieten-ouders-jeugd/2026-11-28/
LOCATION:Sint Sebastiaen Den Haag\, Groenendaal 10\, Wassenaar\, 2244 BK\, Nederland
CATEGORIES:Vrij Schieten
ORGANIZER;CN="Sint Sebastiaen":MAILTO:communicatie@sintsebastiaen.nl
END:VEVENT
BEGIN:VEVENT
DTSTART;TZID=Europe/Amsterdam:20261128T140000
DTEND;TZID=Europe/Amsterdam:20261128T180000
DTSTAMP:20260420T090422
CREATED:20251126T201113Z
LAST-MODIFIED:20251126T201113Z
UID:10004222-1795874400-1795888800@sintsebastiaen.nl
SUMMARY:Clubdag
DESCRIPTION:Clubdag voor leden van Sint Sebastiaen
URL:https://sintsebastiaen.nl/event/clubdag/2026-11-28/
LOCATION:Sint Sebastiaen Den Haag\, Groenendaal 10\, Wassenaar\, 2244 BK\, Nederland
ORGANIZER;CN="Sint Sebastiaen":MAILTO:communicatie@sintsebastiaen.nl
END:VEVENT
BEGIN:VEVENT
DTSTART;TZID=Europe/Amsterdam:20261129T140000
DTEND;TZID=Europe/Amsterdam:20261129T180000
DTSTAMP:20260420T090422
CREATED:20251126T201113Z
LAST-MODIFIED:20251126T201113Z
UID:10004223-1795960800-1795975200@sintsebastiaen.nl
SUMMARY:Clubdag
DESCRIPTION:Clubdag voor leden van Sint Sebastiaen
URL:https://sintsebastiaen.nl/event/clubdag/2026-11-29/
LOCATION:Sint Sebastiaen Den Haag\, Groenendaal 10\, Wassenaar\, 2244 BK\, Nederland
ORGANIZER;CN="Sint Sebastiaen":MAILTO:communicatie@sintsebastiaen.nl
END:VEVENT
BEGIN:VEVENT
DTSTART;TZID=Europe/Amsterdam:20261202T200000
DTEND;TZID=Europe/Amsterdam:20261202T230000
DTSTAMP:20260420T090422
CREATED:20251126T200335Z
LAST-MODIFIED:20251126T200335Z
UID:10003648-1796241600-1796252400@sintsebastiaen.nl
SUMMARY:Clubavond
DESCRIPTION:Clubavond voor leden van Sint Sebastiaen
URL:https://sintsebastiaen.nl/event/clubavond/2026-12-02/
LOCATION:Sint Sebastiaen Den Haag\, Groenendaal 10\, Wassenaar\, 2244 BK\, Nederland
ORGANIZER;CN="Sint Sebastiaen":MAILTO:communicatie@sintsebastiaen.nl
END:VEVENT
BEGIN:VEVENT
DTSTART;TZID=Europe/Amsterdam:20261205T113000
DTEND;TZID=Europe/Amsterdam:20261205T130000
DTSTAMP:20260420T090422
CREATED:20221216T101727Z
LAST-MODIFIED:20221216T102334Z
UID:10002131-1796470200-1796475600@sintsebastiaen.nl
SUMMARY:Jeugd: vrij schieten\, kinderen/ouders samen schieten
DESCRIPTION:Iedere zaterdag na de jeugd cursus\, en ochtend\, kunnen ouders samen met hun kinderen schieten als beide lid zijn van de club. Daarnaast is er op deze tijden ruimte voor vrij schieten voor de jeugd.
URL:https://sintsebastiaen.nl/event/gezamelijk-schieten-ouders-jeugd/2026-12-05/
LOCATION:Sint Sebastiaen Den Haag\, Groenendaal 10\, Wassenaar\, 2244 BK\, Nederland
CATEGORIES:Vrij Schieten
ORGANIZER;CN="Sint Sebastiaen":MAILTO:communicatie@sintsebastiaen.nl
END:VEVENT
BEGIN:VEVENT
DTSTART;TZID=Europe/Amsterdam:20261205T140000
DTEND;TZID=Europe/Amsterdam:20261205T180000
DTSTAMP:20260420T090422
CREATED:20251126T201113Z
LAST-MODIFIED:20251126T201113Z
UID:10004224-1796479200-1796493600@sintsebastiaen.nl
SUMMARY:Clubdag
DESCRIPTION:Clubdag voor leden van Sint Sebastiaen
URL:https://sintsebastiaen.nl/event/clubdag/2026-12-05/
LOCATION:Sint Sebastiaen Den Haag\, Groenendaal 10\, Wassenaar\, 2244 BK\, Nederland
ORGANIZER;CN="Sint Sebastiaen":MAILTO:communicatie@sintsebastiaen.nl
END:VEVENT
BEGIN:VEVENT
DTSTART;TZID=Europe/Amsterdam:20261206T140000
DTEND;TZID=Europe/Amsterdam:20261206T180000
DTSTAMP:20260420T090422
CREATED:20251126T201113Z
LAST-MODIFIED:20251126T201113Z
UID:10004225-1796565600-1796580000@sintsebastiaen.nl
SUMMARY:Clubdag
DESCRIPTION:Clubdag voor leden van Sint Sebastiaen
URL:https://sintsebastiaen.nl/event/clubdag/2026-12-06/
LOCATION:Sint Sebastiaen Den Haag\, Groenendaal 10\, Wassenaar\, 2244 BK\, Nederland
ORGANIZER;CN="Sint Sebastiaen":MAILTO:communicatie@sintsebastiaen.nl
END:VEVENT
END:VCALENDAR