BEGIN:VCALENDAR
VERSION:2.0
PRODID:-//Het Haagsch Handboogschuttersgilde van Sint Sebastiaen - ECPv6.15.18//NONSGML v1.0//EN
CALSCALE:GREGORIAN
METHOD:PUBLISH
X-WR-CALNAME:Het Haagsch Handboogschuttersgilde van Sint Sebastiaen
X-ORIGINAL-URL:https://sintsebastiaen.nl
X-WR-CALDESC:Evenementen voor Het Haagsch Handboogschuttersgilde van Sint Sebastiaen
REFRESH-INTERVAL;VALUE=DURATION:PT1H
X-Robots-Tag:noindex
X-PUBLISHED-TTL:PT1H
BEGIN:VTIMEZONE
TZID:Europe/Amsterdam
BEGIN:DAYLIGHT
TZOFFSETFROM:+0100
TZOFFSETTO:+0200
TZNAME:CEST
DTSTART:20260329T010000
END:DAYLIGHT
BEGIN:STANDARD
TZOFFSETFROM:+0200
TZOFFSETTO:+0100
TZNAME:CET
DTSTART:20261025T010000
END:STANDARD
BEGIN:DAYLIGHT
TZOFFSETFROM:+0100
TZOFFSETTO:+0200
TZNAME:CEST
DTSTART:20270328T010000
END:DAYLIGHT
BEGIN:STANDARD
TZOFFSETFROM:+0200
TZOFFSETTO:+0100
TZNAME:CET
DTSTART:20271031T010000
END:STANDARD
BEGIN:DAYLIGHT
TZOFFSETFROM:+0100
TZOFFSETTO:+0200
TZNAME:CEST
DTSTART:20280326T010000
END:DAYLIGHT
BEGIN:STANDARD
TZOFFSETFROM:+0200
TZOFFSETTO:+0100
TZNAME:CET
DTSTART:20281029T010000
END:STANDARD
END:VTIMEZONE
BEGIN:VEVENT
DTSTART;TZID=Europe/Amsterdam:20270313T113000
DTEND;TZID=Europe/Amsterdam:20270313T130000
DTSTAMP:20260424T015625
CREATED:20221216T101727Z
LAST-MODIFIED:20221216T102334Z
UID:10002145-1804937400-1804942800@sintsebastiaen.nl
SUMMARY:Jeugd: vrij schieten\, kinderen/ouders samen schieten
DESCRIPTION:Iedere zaterdag na de jeugd cursus\, en ochtend\, kunnen ouders samen met hun kinderen schieten als beide lid zijn van de club. Daarnaast is er op deze tijden ruimte voor vrij schieten voor de jeugd.
URL:https://sintsebastiaen.nl/event/gezamelijk-schieten-ouders-jeugd/2027-03-13/
LOCATION:Sint Sebastiaen Den Haag\, Groenendaal 10\, Wassenaar\, 2244 BK\, Nederland
CATEGORIES:Vrij Schieten
ORGANIZER;CN="Sint Sebastiaen":MAILTO:communicatie@sintsebastiaen.nl
END:VEVENT
BEGIN:VEVENT
DTSTART;TZID=Europe/Amsterdam:20270313T140000
DTEND;TZID=Europe/Amsterdam:20270313T180000
DTSTAMP:20260424T015625
CREATED:20251126T201113Z
LAST-MODIFIED:20251126T201113Z
UID:10004252-1804946400-1804960800@sintsebastiaen.nl
SUMMARY:Clubdag
DESCRIPTION:Clubdag voor leden van Sint Sebastiaen
URL:https://sintsebastiaen.nl/event/clubdag/2027-03-13/
LOCATION:Sint Sebastiaen Den Haag\, Groenendaal 10\, Wassenaar\, 2244 BK\, Nederland
ORGANIZER;CN="Sint Sebastiaen":MAILTO:communicatie@sintsebastiaen.nl
END:VEVENT
BEGIN:VEVENT
DTSTART;TZID=Europe/Amsterdam:20270314T140000
DTEND;TZID=Europe/Amsterdam:20270314T180000
DTSTAMP:20260424T015625
CREATED:20251126T201113Z
LAST-MODIFIED:20251126T201113Z
UID:10004253-1805032800-1805047200@sintsebastiaen.nl
SUMMARY:Clubdag
DESCRIPTION:Clubdag voor leden van Sint Sebastiaen
URL:https://sintsebastiaen.nl/event/clubdag/2027-03-14/
LOCATION:Sint Sebastiaen Den Haag\, Groenendaal 10\, Wassenaar\, 2244 BK\, Nederland
ORGANIZER;CN="Sint Sebastiaen":MAILTO:communicatie@sintsebastiaen.nl
END:VEVENT
BEGIN:VEVENT
DTSTART;TZID=Europe/Amsterdam:20270317T200000
DTEND;TZID=Europe/Amsterdam:20270317T230000
DTSTAMP:20260424T015626
CREATED:20251126T200335Z
LAST-MODIFIED:20251126T200335Z
UID:10003663-1805313600-1805324400@sintsebastiaen.nl
SUMMARY:Clubavond
DESCRIPTION:Clubavond voor leden van Sint Sebastiaen
URL:https://sintsebastiaen.nl/event/clubavond/2027-03-17/
LOCATION:Sint Sebastiaen Den Haag\, Groenendaal 10\, Wassenaar\, 2244 BK\, Nederland
ORGANIZER;CN="Sint Sebastiaen":MAILTO:communicatie@sintsebastiaen.nl
END:VEVENT
BEGIN:VEVENT
DTSTART;TZID=Europe/Amsterdam:20270320T113000
DTEND;TZID=Europe/Amsterdam:20270320T130000
DTSTAMP:20260424T015626
CREATED:20221216T101727Z
LAST-MODIFIED:20221216T102334Z
UID:10002146-1805542200-1805547600@sintsebastiaen.nl
SUMMARY:Jeugd: vrij schieten\, kinderen/ouders samen schieten
DESCRIPTION:Iedere zaterdag na de jeugd cursus\, en ochtend\, kunnen ouders samen met hun kinderen schieten als beide lid zijn van de club. Daarnaast is er op deze tijden ruimte voor vrij schieten voor de jeugd.
URL:https://sintsebastiaen.nl/event/gezamelijk-schieten-ouders-jeugd/2027-03-20/
LOCATION:Sint Sebastiaen Den Haag\, Groenendaal 10\, Wassenaar\, 2244 BK\, Nederland
CATEGORIES:Vrij Schieten
ORGANIZER;CN="Sint Sebastiaen":MAILTO:communicatie@sintsebastiaen.nl
END:VEVENT
BEGIN:VEVENT
DTSTART;TZID=Europe/Amsterdam:20270320T140000
DTEND;TZID=Europe/Amsterdam:20270320T180000
DTSTAMP:20260424T015626
CREATED:20251126T201113Z
LAST-MODIFIED:20251126T201113Z
UID:10004254-1805551200-1805565600@sintsebastiaen.nl
SUMMARY:Clubdag
DESCRIPTION:Clubdag voor leden van Sint Sebastiaen
URL:https://sintsebastiaen.nl/event/clubdag/2027-03-20/
LOCATION:Sint Sebastiaen Den Haag\, Groenendaal 10\, Wassenaar\, 2244 BK\, Nederland
ORGANIZER;CN="Sint Sebastiaen":MAILTO:communicatie@sintsebastiaen.nl
END:VEVENT
BEGIN:VEVENT
DTSTART;TZID=Europe/Amsterdam:20270321T140000
DTEND;TZID=Europe/Amsterdam:20270321T180000
DTSTAMP:20260424T015626
CREATED:20251126T201113Z
LAST-MODIFIED:20251126T201113Z
UID:10004255-1805637600-1805652000@sintsebastiaen.nl
SUMMARY:Clubdag
DESCRIPTION:Clubdag voor leden van Sint Sebastiaen
URL:https://sintsebastiaen.nl/event/clubdag/2027-03-21/
LOCATION:Sint Sebastiaen Den Haag\, Groenendaal 10\, Wassenaar\, 2244 BK\, Nederland
ORGANIZER;CN="Sint Sebastiaen":MAILTO:communicatie@sintsebastiaen.nl
END:VEVENT
BEGIN:VEVENT
DTSTART;TZID=Europe/Amsterdam:20270324T200000
DTEND;TZID=Europe/Amsterdam:20270324T230000
DTSTAMP:20260424T015626
CREATED:20251126T200335Z
LAST-MODIFIED:20251126T200335Z
UID:10003664-1805918400-1805929200@sintsebastiaen.nl
SUMMARY:Clubavond
DESCRIPTION:Clubavond voor leden van Sint Sebastiaen
URL:https://sintsebastiaen.nl/event/clubavond/2027-03-24/
LOCATION:Sint Sebastiaen Den Haag\, Groenendaal 10\, Wassenaar\, 2244 BK\, Nederland
ORGANIZER;CN="Sint Sebastiaen":MAILTO:communicatie@sintsebastiaen.nl
END:VEVENT
BEGIN:VEVENT
DTSTART;TZID=Europe/Amsterdam:20270327T113000
DTEND;TZID=Europe/Amsterdam:20270327T130000
DTSTAMP:20260424T015626
CREATED:20221216T101727Z
LAST-MODIFIED:20221216T102334Z
UID:10002147-1806147000-1806152400@sintsebastiaen.nl
SUMMARY:Jeugd: vrij schieten\, kinderen/ouders samen schieten
DESCRIPTION:Iedere zaterdag na de jeugd cursus\, en ochtend\, kunnen ouders samen met hun kinderen schieten als beide lid zijn van de club. Daarnaast is er op deze tijden ruimte voor vrij schieten voor de jeugd.
URL:https://sintsebastiaen.nl/event/gezamelijk-schieten-ouders-jeugd/2027-03-27/
LOCATION:Sint Sebastiaen Den Haag\, Groenendaal 10\, Wassenaar\, 2244 BK\, Nederland
CATEGORIES:Vrij Schieten
ORGANIZER;CN="Sint Sebastiaen":MAILTO:communicatie@sintsebastiaen.nl
END:VEVENT
BEGIN:VEVENT
DTSTART;TZID=Europe/Amsterdam:20270327T140000
DTEND;TZID=Europe/Amsterdam:20270327T180000
DTSTAMP:20260424T015626
CREATED:20251126T201113Z
LAST-MODIFIED:20251126T201113Z
UID:10004256-1806156000-1806170400@sintsebastiaen.nl
SUMMARY:Clubdag
DESCRIPTION:Clubdag voor leden van Sint Sebastiaen
URL:https://sintsebastiaen.nl/event/clubdag/2027-03-27/
LOCATION:Sint Sebastiaen Den Haag\, Groenendaal 10\, Wassenaar\, 2244 BK\, Nederland
ORGANIZER;CN="Sint Sebastiaen":MAILTO:communicatie@sintsebastiaen.nl
END:VEVENT
BEGIN:VEVENT
DTSTART;TZID=Europe/Amsterdam:20270328T140000
DTEND;TZID=Europe/Amsterdam:20270328T180000
DTSTAMP:20260424T015626
CREATED:20251126T201113Z
LAST-MODIFIED:20251126T201113Z
UID:10004257-1806242400-1806256800@sintsebastiaen.nl
SUMMARY:Clubdag
DESCRIPTION:Clubdag voor leden van Sint Sebastiaen
URL:https://sintsebastiaen.nl/event/clubdag/2027-03-28/
LOCATION:Sint Sebastiaen Den Haag\, Groenendaal 10\, Wassenaar\, 2244 BK\, Nederland
ORGANIZER;CN="Sint Sebastiaen":MAILTO:communicatie@sintsebastiaen.nl
END:VEVENT
BEGIN:VEVENT
DTSTART;TZID=Europe/Amsterdam:20270331T200000
DTEND;TZID=Europe/Amsterdam:20270331T230000
DTSTAMP:20260424T015626
CREATED:20251126T200335Z
LAST-MODIFIED:20251126T200335Z
UID:10003665-1806523200-1806534000@sintsebastiaen.nl
SUMMARY:Clubavond
DESCRIPTION:Clubavond voor leden van Sint Sebastiaen
URL:https://sintsebastiaen.nl/event/clubavond/2027-03-31/
LOCATION:Sint Sebastiaen Den Haag\, Groenendaal 10\, Wassenaar\, 2244 BK\, Nederland
ORGANIZER;CN="Sint Sebastiaen":MAILTO:communicatie@sintsebastiaen.nl
END:VEVENT
BEGIN:VEVENT
DTSTART;TZID=Europe/Amsterdam:20270403T113000
DTEND;TZID=Europe/Amsterdam:20270403T130000
DTSTAMP:20260424T015626
CREATED:20221216T101727Z
LAST-MODIFIED:20221216T102334Z
UID:10002148-1806751800-1806757200@sintsebastiaen.nl
SUMMARY:Jeugd: vrij schieten\, kinderen/ouders samen schieten
DESCRIPTION:Iedere zaterdag na de jeugd cursus\, en ochtend\, kunnen ouders samen met hun kinderen schieten als beide lid zijn van de club. Daarnaast is er op deze tijden ruimte voor vrij schieten voor de jeugd.
URL:https://sintsebastiaen.nl/event/gezamelijk-schieten-ouders-jeugd/2027-04-03/
LOCATION:Sint Sebastiaen Den Haag\, Groenendaal 10\, Wassenaar\, 2244 BK\, Nederland
CATEGORIES:Vrij Schieten
ORGANIZER;CN="Sint Sebastiaen":MAILTO:communicatie@sintsebastiaen.nl
END:VEVENT
BEGIN:VEVENT
DTSTART;TZID=Europe/Amsterdam:20270403T140000
DTEND;TZID=Europe/Amsterdam:20270403T180000
DTSTAMP:20260424T015626
CREATED:20251126T201113Z
LAST-MODIFIED:20251126T201113Z
UID:10004258-1806760800-1806775200@sintsebastiaen.nl
SUMMARY:Clubdag
DESCRIPTION:Clubdag voor leden van Sint Sebastiaen
URL:https://sintsebastiaen.nl/event/clubdag/2027-04-03/
LOCATION:Sint Sebastiaen Den Haag\, Groenendaal 10\, Wassenaar\, 2244 BK\, Nederland
ORGANIZER;CN="Sint Sebastiaen":MAILTO:communicatie@sintsebastiaen.nl
END:VEVENT
BEGIN:VEVENT
DTSTART;TZID=Europe/Amsterdam:20270404T140000
DTEND;TZID=Europe/Amsterdam:20270404T180000
DTSTAMP:20260424T015626
CREATED:20251126T201113Z
LAST-MODIFIED:20251126T201113Z
UID:10004259-1806847200-1806861600@sintsebastiaen.nl
SUMMARY:Clubdag
DESCRIPTION:Clubdag voor leden van Sint Sebastiaen
URL:https://sintsebastiaen.nl/event/clubdag/2027-04-04/
LOCATION:Sint Sebastiaen Den Haag\, Groenendaal 10\, Wassenaar\, 2244 BK\, Nederland
ORGANIZER;CN="Sint Sebastiaen":MAILTO:communicatie@sintsebastiaen.nl
END:VEVENT
BEGIN:VEVENT
DTSTART;TZID=Europe/Amsterdam:20270407T200000
DTEND;TZID=Europe/Amsterdam:20270407T230000
DTSTAMP:20260424T015626
CREATED:20251126T200335Z
LAST-MODIFIED:20251126T200335Z
UID:10003666-1807128000-1807138800@sintsebastiaen.nl
SUMMARY:Clubavond
DESCRIPTION:Clubavond voor leden van Sint Sebastiaen
URL:https://sintsebastiaen.nl/event/clubavond/2027-04-07/
LOCATION:Sint Sebastiaen Den Haag\, Groenendaal 10\, Wassenaar\, 2244 BK\, Nederland
ORGANIZER;CN="Sint Sebastiaen":MAILTO:communicatie@sintsebastiaen.nl
END:VEVENT
BEGIN:VEVENT
DTSTART;TZID=Europe/Amsterdam:20270410T113000
DTEND;TZID=Europe/Amsterdam:20270410T130000
DTSTAMP:20260424T015626
CREATED:20221216T101727Z
LAST-MODIFIED:20221216T102334Z
UID:10002149-1807356600-1807362000@sintsebastiaen.nl
SUMMARY:Jeugd: vrij schieten\, kinderen/ouders samen schieten
DESCRIPTION:Iedere zaterdag na de jeugd cursus\, en ochtend\, kunnen ouders samen met hun kinderen schieten als beide lid zijn van de club. Daarnaast is er op deze tijden ruimte voor vrij schieten voor de jeugd.
URL:https://sintsebastiaen.nl/event/gezamelijk-schieten-ouders-jeugd/2027-04-10/
LOCATION:Sint Sebastiaen Den Haag\, Groenendaal 10\, Wassenaar\, 2244 BK\, Nederland
CATEGORIES:Vrij Schieten
ORGANIZER;CN="Sint Sebastiaen":MAILTO:communicatie@sintsebastiaen.nl
END:VEVENT
BEGIN:VEVENT
DTSTART;TZID=Europe/Amsterdam:20270410T140000
DTEND;TZID=Europe/Amsterdam:20270410T180000
DTSTAMP:20260424T015626
CREATED:20251126T201113Z
LAST-MODIFIED:20251126T201113Z
UID:10004260-1807365600-1807380000@sintsebastiaen.nl
SUMMARY:Clubdag
DESCRIPTION:Clubdag voor leden van Sint Sebastiaen
URL:https://sintsebastiaen.nl/event/clubdag/2027-04-10/
LOCATION:Sint Sebastiaen Den Haag\, Groenendaal 10\, Wassenaar\, 2244 BK\, Nederland
ORGANIZER;CN="Sint Sebastiaen":MAILTO:communicatie@sintsebastiaen.nl
END:VEVENT
BEGIN:VEVENT
DTSTART;TZID=Europe/Amsterdam:20270411T140000
DTEND;TZID=Europe/Amsterdam:20270411T180000
DTSTAMP:20260424T015626
CREATED:20251126T201113Z
LAST-MODIFIED:20251126T201113Z
UID:10004261-1807452000-1807466400@sintsebastiaen.nl
SUMMARY:Clubdag
DESCRIPTION:Clubdag voor leden van Sint Sebastiaen
URL:https://sintsebastiaen.nl/event/clubdag/2027-04-11/
LOCATION:Sint Sebastiaen Den Haag\, Groenendaal 10\, Wassenaar\, 2244 BK\, Nederland
ORGANIZER;CN="Sint Sebastiaen":MAILTO:communicatie@sintsebastiaen.nl
END:VEVENT
BEGIN:VEVENT
DTSTART;TZID=Europe/Amsterdam:20270414T200000
DTEND;TZID=Europe/Amsterdam:20270414T230000
DTSTAMP:20260424T015626
CREATED:20251126T200335Z
LAST-MODIFIED:20251126T200335Z
UID:10003667-1807732800-1807743600@sintsebastiaen.nl
SUMMARY:Clubavond
DESCRIPTION:Clubavond voor leden van Sint Sebastiaen
URL:https://sintsebastiaen.nl/event/clubavond/2027-04-14/
LOCATION:Sint Sebastiaen Den Haag\, Groenendaal 10\, Wassenaar\, 2244 BK\, Nederland
ORGANIZER;CN="Sint Sebastiaen":MAILTO:communicatie@sintsebastiaen.nl
END:VEVENT
BEGIN:VEVENT
DTSTART;TZID=Europe/Amsterdam:20270417T113000
DTEND;TZID=Europe/Amsterdam:20270417T130000
DTSTAMP:20260424T015626
CREATED:20221216T101727Z
LAST-MODIFIED:20221216T102334Z
UID:10002150-1807961400-1807966800@sintsebastiaen.nl
SUMMARY:Jeugd: vrij schieten\, kinderen/ouders samen schieten
DESCRIPTION:Iedere zaterdag na de jeugd cursus\, en ochtend\, kunnen ouders samen met hun kinderen schieten als beide lid zijn van de club. Daarnaast is er op deze tijden ruimte voor vrij schieten voor de jeugd.
URL:https://sintsebastiaen.nl/event/gezamelijk-schieten-ouders-jeugd/2027-04-17/
LOCATION:Sint Sebastiaen Den Haag\, Groenendaal 10\, Wassenaar\, 2244 BK\, Nederland
CATEGORIES:Vrij Schieten
ORGANIZER;CN="Sint Sebastiaen":MAILTO:communicatie@sintsebastiaen.nl
END:VEVENT
BEGIN:VEVENT
DTSTART;TZID=Europe/Amsterdam:20270417T140000
DTEND;TZID=Europe/Amsterdam:20270417T180000
DTSTAMP:20260424T015626
CREATED:20251126T201113Z
LAST-MODIFIED:20251126T201113Z
UID:10004262-1807970400-1807984800@sintsebastiaen.nl
SUMMARY:Clubdag
DESCRIPTION:Clubdag voor leden van Sint Sebastiaen
URL:https://sintsebastiaen.nl/event/clubdag/2027-04-17/
LOCATION:Sint Sebastiaen Den Haag\, Groenendaal 10\, Wassenaar\, 2244 BK\, Nederland
ORGANIZER;CN="Sint Sebastiaen":MAILTO:communicatie@sintsebastiaen.nl
END:VEVENT
BEGIN:VEVENT
DTSTART;TZID=Europe/Amsterdam:20270418T140000
DTEND;TZID=Europe/Amsterdam:20270418T180000
DTSTAMP:20260424T015626
CREATED:20251126T201113Z
LAST-MODIFIED:20251126T201113Z
UID:10004263-1808056800-1808071200@sintsebastiaen.nl
SUMMARY:Clubdag
DESCRIPTION:Clubdag voor leden van Sint Sebastiaen
URL:https://sintsebastiaen.nl/event/clubdag/2027-04-18/
LOCATION:Sint Sebastiaen Den Haag\, Groenendaal 10\, Wassenaar\, 2244 BK\, Nederland
ORGANIZER;CN="Sint Sebastiaen":MAILTO:communicatie@sintsebastiaen.nl
END:VEVENT
BEGIN:VEVENT
DTSTART;TZID=Europe/Amsterdam:20270421T200000
DTEND;TZID=Europe/Amsterdam:20270421T230000
DTSTAMP:20260424T015626
CREATED:20251126T200335Z
LAST-MODIFIED:20251126T200335Z
UID:10003668-1808337600-1808348400@sintsebastiaen.nl
SUMMARY:Clubavond
DESCRIPTION:Clubavond voor leden van Sint Sebastiaen
URL:https://sintsebastiaen.nl/event/clubavond/2027-04-21/
LOCATION:Sint Sebastiaen Den Haag\, Groenendaal 10\, Wassenaar\, 2244 BK\, Nederland
ORGANIZER;CN="Sint Sebastiaen":MAILTO:communicatie@sintsebastiaen.nl
END:VEVENT
BEGIN:VEVENT
DTSTART;TZID=Europe/Amsterdam:20270424T113000
DTEND;TZID=Europe/Amsterdam:20270424T130000
DTSTAMP:20260424T015626
CREATED:20221216T101727Z
LAST-MODIFIED:20221216T102334Z
UID:10002151-1808566200-1808571600@sintsebastiaen.nl
SUMMARY:Jeugd: vrij schieten\, kinderen/ouders samen schieten
DESCRIPTION:Iedere zaterdag na de jeugd cursus\, en ochtend\, kunnen ouders samen met hun kinderen schieten als beide lid zijn van de club. Daarnaast is er op deze tijden ruimte voor vrij schieten voor de jeugd.
URL:https://sintsebastiaen.nl/event/gezamelijk-schieten-ouders-jeugd/2027-04-24/
LOCATION:Sint Sebastiaen Den Haag\, Groenendaal 10\, Wassenaar\, 2244 BK\, Nederland
CATEGORIES:Vrij Schieten
ORGANIZER;CN="Sint Sebastiaen":MAILTO:communicatie@sintsebastiaen.nl
END:VEVENT
BEGIN:VEVENT
DTSTART;TZID=Europe/Amsterdam:20270424T140000
DTEND;TZID=Europe/Amsterdam:20270424T180000
DTSTAMP:20260424T015626
CREATED:20251126T201113Z
LAST-MODIFIED:20251126T201113Z
UID:10004264-1808575200-1808589600@sintsebastiaen.nl
SUMMARY:Clubdag
DESCRIPTION:Clubdag voor leden van Sint Sebastiaen
URL:https://sintsebastiaen.nl/event/clubdag/2027-04-24/
LOCATION:Sint Sebastiaen Den Haag\, Groenendaal 10\, Wassenaar\, 2244 BK\, Nederland
ORGANIZER;CN="Sint Sebastiaen":MAILTO:communicatie@sintsebastiaen.nl
END:VEVENT
BEGIN:VEVENT
DTSTART;TZID=Europe/Amsterdam:20270425T140000
DTEND;TZID=Europe/Amsterdam:20270425T180000
DTSTAMP:20260424T015626
CREATED:20251126T201113Z
LAST-MODIFIED:20251126T201113Z
UID:10004265-1808661600-1808676000@sintsebastiaen.nl
SUMMARY:Clubdag
DESCRIPTION:Clubdag voor leden van Sint Sebastiaen
URL:https://sintsebastiaen.nl/event/clubdag/2027-04-25/
LOCATION:Sint Sebastiaen Den Haag\, Groenendaal 10\, Wassenaar\, 2244 BK\, Nederland
ORGANIZER;CN="Sint Sebastiaen":MAILTO:communicatie@sintsebastiaen.nl
END:VEVENT
BEGIN:VEVENT
DTSTART;TZID=Europe/Amsterdam:20270428T200000
DTEND;TZID=Europe/Amsterdam:20270428T230000
DTSTAMP:20260424T015626
CREATED:20251126T200335Z
LAST-MODIFIED:20251126T200335Z
UID:10003669-1808942400-1808953200@sintsebastiaen.nl
SUMMARY:Clubavond
DESCRIPTION:Clubavond voor leden van Sint Sebastiaen
URL:https://sintsebastiaen.nl/event/clubavond/2027-04-28/
LOCATION:Sint Sebastiaen Den Haag\, Groenendaal 10\, Wassenaar\, 2244 BK\, Nederland
ORGANIZER;CN="Sint Sebastiaen":MAILTO:communicatie@sintsebastiaen.nl
END:VEVENT
BEGIN:VEVENT
DTSTART;TZID=Europe/Amsterdam:20270501T113000
DTEND;TZID=Europe/Amsterdam:20270501T130000
DTSTAMP:20260424T015626
CREATED:20221216T101727Z
LAST-MODIFIED:20221216T102334Z
UID:10002152-1809171000-1809176400@sintsebastiaen.nl
SUMMARY:Jeugd: vrij schieten\, kinderen/ouders samen schieten
DESCRIPTION:Iedere zaterdag na de jeugd cursus\, en ochtend\, kunnen ouders samen met hun kinderen schieten als beide lid zijn van de club. Daarnaast is er op deze tijden ruimte voor vrij schieten voor de jeugd.
URL:https://sintsebastiaen.nl/event/gezamelijk-schieten-ouders-jeugd/2027-05-01/
LOCATION:Sint Sebastiaen Den Haag\, Groenendaal 10\, Wassenaar\, 2244 BK\, Nederland
CATEGORIES:Vrij Schieten
ORGANIZER;CN="Sint Sebastiaen":MAILTO:communicatie@sintsebastiaen.nl
END:VEVENT
BEGIN:VEVENT
DTSTART;TZID=Europe/Amsterdam:20270501T140000
DTEND;TZID=Europe/Amsterdam:20270501T180000
DTSTAMP:20260424T015626
CREATED:20251126T201113Z
LAST-MODIFIED:20251126T201113Z
UID:10004266-1809180000-1809194400@sintsebastiaen.nl
SUMMARY:Clubdag
DESCRIPTION:Clubdag voor leden van Sint Sebastiaen
URL:https://sintsebastiaen.nl/event/clubdag/2027-05-01/
LOCATION:Sint Sebastiaen Den Haag\, Groenendaal 10\, Wassenaar\, 2244 BK\, Nederland
ORGANIZER;CN="Sint Sebastiaen":MAILTO:communicatie@sintsebastiaen.nl
END:VEVENT
END:VCALENDAR