BEGIN:VCALENDAR
VERSION:2.0
PRODID:-//Het Haagsch Handboogschuttersgilde van Sint Sebastiaen - ECPv6.15.18//NONSGML v1.0//EN
CALSCALE:GREGORIAN
METHOD:PUBLISH
X-ORIGINAL-URL:https://sintsebastiaen.nl
X-WR-CALDESC:Evenementen voor Het Haagsch Handboogschuttersgilde van Sint Sebastiaen
REFRESH-INTERVAL;VALUE=DURATION:PT1H
X-Robots-Tag:noindex
X-PUBLISHED-TTL:PT1H
BEGIN:VTIMEZONE
TZID:Europe/Amsterdam
BEGIN:DAYLIGHT
TZOFFSETFROM:+0100
TZOFFSETTO:+0200
TZNAME:CEST
DTSTART:20260329T010000
END:DAYLIGHT
BEGIN:STANDARD
TZOFFSETFROM:+0200
TZOFFSETTO:+0100
TZNAME:CET
DTSTART:20261025T010000
END:STANDARD
BEGIN:DAYLIGHT
TZOFFSETFROM:+0100
TZOFFSETTO:+0200
TZNAME:CEST
DTSTART:20270328T010000
END:DAYLIGHT
BEGIN:STANDARD
TZOFFSETFROM:+0200
TZOFFSETTO:+0100
TZNAME:CET
DTSTART:20271031T010000
END:STANDARD
BEGIN:DAYLIGHT
TZOFFSETFROM:+0100
TZOFFSETTO:+0200
TZNAME:CEST
DTSTART:20280326T010000
END:DAYLIGHT
BEGIN:STANDARD
TZOFFSETFROM:+0200
TZOFFSETTO:+0100
TZNAME:CET
DTSTART:20281029T010000
END:STANDARD
END:VTIMEZONE
BEGIN:VEVENT
DTSTART;TZID=Europe/Amsterdam:20270508T113000
DTEND;TZID=Europe/Amsterdam:20270508T130000
DTSTAMP:20260424T150008
CREATED:20221216T101727Z
LAST-MODIFIED:20221216T102334Z
UID:10002153-1809775800-1809781200@sintsebastiaen.nl
SUMMARY:Jeugd: vrij schieten\, kinderen/ouders samen schieten
DESCRIPTION:Iedere zaterdag na de jeugd cursus\, en ochtend\, kunnen ouders samen met hun kinderen schieten als beide lid zijn van de club. Daarnaast is er op deze tijden ruimte voor vrij schieten voor de jeugd.
URL:https://sintsebastiaen.nl/event/gezamelijk-schieten-ouders-jeugd/2027-05-08/
LOCATION:Sint Sebastiaen Den Haag\, Groenendaal 10\, Wassenaar\, 2244 BK\, Nederland
CATEGORIES:Vrij Schieten
ORGANIZER;CN="Sint Sebastiaen":MAILTO:communicatie@sintsebastiaen.nl
END:VEVENT
BEGIN:VEVENT
DTSTART;TZID=Europe/Amsterdam:20270508T140000
DTEND;TZID=Europe/Amsterdam:20270508T180000
DTSTAMP:20260424T150008
CREATED:20251126T201113Z
LAST-MODIFIED:20251126T201113Z
UID:10004268-1809784800-1809799200@sintsebastiaen.nl
SUMMARY:Clubdag
DESCRIPTION:Clubdag voor leden van Sint Sebastiaen
URL:https://sintsebastiaen.nl/event/clubdag/2027-05-08/
LOCATION:Sint Sebastiaen Den Haag\, Groenendaal 10\, Wassenaar\, 2244 BK\, Nederland
ORGANIZER;CN="Sint Sebastiaen":MAILTO:communicatie@sintsebastiaen.nl
END:VEVENT
BEGIN:VEVENT
DTSTART;TZID=Europe/Amsterdam:20270509T140000
DTEND;TZID=Europe/Amsterdam:20270509T180000
DTSTAMP:20260424T150008
CREATED:20251126T201113Z
LAST-MODIFIED:20251126T201113Z
UID:10004269-1809871200-1809885600@sintsebastiaen.nl
SUMMARY:Clubdag
DESCRIPTION:Clubdag voor leden van Sint Sebastiaen
URL:https://sintsebastiaen.nl/event/clubdag/2027-05-09/
LOCATION:Sint Sebastiaen Den Haag\, Groenendaal 10\, Wassenaar\, 2244 BK\, Nederland
ORGANIZER;CN="Sint Sebastiaen":MAILTO:communicatie@sintsebastiaen.nl
END:VEVENT
BEGIN:VEVENT
DTSTART;TZID=Europe/Amsterdam:20270512T200000
DTEND;TZID=Europe/Amsterdam:20270512T230000
DTSTAMP:20260424T150008
CREATED:20251126T200335Z
LAST-MODIFIED:20251126T200335Z
UID:10003671-1810152000-1810162800@sintsebastiaen.nl
SUMMARY:Clubavond
DESCRIPTION:Clubavond voor leden van Sint Sebastiaen
URL:https://sintsebastiaen.nl/event/clubavond/2027-05-12/
LOCATION:Sint Sebastiaen Den Haag\, Groenendaal 10\, Wassenaar\, 2244 BK\, Nederland
ORGANIZER;CN="Sint Sebastiaen":MAILTO:communicatie@sintsebastiaen.nl
END:VEVENT
BEGIN:VEVENT
DTSTART;TZID=Europe/Amsterdam:20270515T113000
DTEND;TZID=Europe/Amsterdam:20270515T130000
DTSTAMP:20260424T150008
CREATED:20221216T101727Z
LAST-MODIFIED:20221216T102334Z
UID:10002154-1810380600-1810386000@sintsebastiaen.nl
SUMMARY:Jeugd: vrij schieten\, kinderen/ouders samen schieten
DESCRIPTION:Iedere zaterdag na de jeugd cursus\, en ochtend\, kunnen ouders samen met hun kinderen schieten als beide lid zijn van de club. Daarnaast is er op deze tijden ruimte voor vrij schieten voor de jeugd.
URL:https://sintsebastiaen.nl/event/gezamelijk-schieten-ouders-jeugd/2027-05-15/
LOCATION:Sint Sebastiaen Den Haag\, Groenendaal 10\, Wassenaar\, 2244 BK\, Nederland
CATEGORIES:Vrij Schieten
ORGANIZER;CN="Sint Sebastiaen":MAILTO:communicatie@sintsebastiaen.nl
END:VEVENT
BEGIN:VEVENT
DTSTART;TZID=Europe/Amsterdam:20270515T140000
DTEND;TZID=Europe/Amsterdam:20270515T180000
DTSTAMP:20260424T150008
CREATED:20251126T201113Z
LAST-MODIFIED:20251126T201113Z
UID:10004270-1810389600-1810404000@sintsebastiaen.nl
SUMMARY:Clubdag
DESCRIPTION:Clubdag voor leden van Sint Sebastiaen
URL:https://sintsebastiaen.nl/event/clubdag/2027-05-15/
LOCATION:Sint Sebastiaen Den Haag\, Groenendaal 10\, Wassenaar\, 2244 BK\, Nederland
ORGANIZER;CN="Sint Sebastiaen":MAILTO:communicatie@sintsebastiaen.nl
END:VEVENT
BEGIN:VEVENT
DTSTART;TZID=Europe/Amsterdam:20270516T140000
DTEND;TZID=Europe/Amsterdam:20270516T180000
DTSTAMP:20260424T150008
CREATED:20251126T201113Z
LAST-MODIFIED:20251126T201113Z
UID:10004271-1810476000-1810490400@sintsebastiaen.nl
SUMMARY:Clubdag
DESCRIPTION:Clubdag voor leden van Sint Sebastiaen
URL:https://sintsebastiaen.nl/event/clubdag/2027-05-16/
LOCATION:Sint Sebastiaen Den Haag\, Groenendaal 10\, Wassenaar\, 2244 BK\, Nederland
ORGANIZER;CN="Sint Sebastiaen":MAILTO:communicatie@sintsebastiaen.nl
END:VEVENT
BEGIN:VEVENT
DTSTART;TZID=Europe/Amsterdam:20270519T200000
DTEND;TZID=Europe/Amsterdam:20270519T230000
DTSTAMP:20260424T150008
CREATED:20251126T200335Z
LAST-MODIFIED:20251126T200335Z
UID:10003672-1810756800-1810767600@sintsebastiaen.nl
SUMMARY:Clubavond
DESCRIPTION:Clubavond voor leden van Sint Sebastiaen
URL:https://sintsebastiaen.nl/event/clubavond/2027-05-19/
LOCATION:Sint Sebastiaen Den Haag\, Groenendaal 10\, Wassenaar\, 2244 BK\, Nederland
ORGANIZER;CN="Sint Sebastiaen":MAILTO:communicatie@sintsebastiaen.nl
END:VEVENT
BEGIN:VEVENT
DTSTART;TZID=Europe/Amsterdam:20270522T113000
DTEND;TZID=Europe/Amsterdam:20270522T130000
DTSTAMP:20260424T150008
CREATED:20221216T101727Z
LAST-MODIFIED:20221216T102334Z
UID:10002155-1810985400-1810990800@sintsebastiaen.nl
SUMMARY:Jeugd: vrij schieten\, kinderen/ouders samen schieten
DESCRIPTION:Iedere zaterdag na de jeugd cursus\, en ochtend\, kunnen ouders samen met hun kinderen schieten als beide lid zijn van de club. Daarnaast is er op deze tijden ruimte voor vrij schieten voor de jeugd.
URL:https://sintsebastiaen.nl/event/gezamelijk-schieten-ouders-jeugd/2027-05-22/
LOCATION:Sint Sebastiaen Den Haag\, Groenendaal 10\, Wassenaar\, 2244 BK\, Nederland
CATEGORIES:Vrij Schieten
ORGANIZER;CN="Sint Sebastiaen":MAILTO:communicatie@sintsebastiaen.nl
END:VEVENT
BEGIN:VEVENT
DTSTART;TZID=Europe/Amsterdam:20270522T140000
DTEND;TZID=Europe/Amsterdam:20270522T180000
DTSTAMP:20260424T150008
CREATED:20251126T201113Z
LAST-MODIFIED:20251126T201113Z
UID:10004272-1810994400-1811008800@sintsebastiaen.nl
SUMMARY:Clubdag
DESCRIPTION:Clubdag voor leden van Sint Sebastiaen
URL:https://sintsebastiaen.nl/event/clubdag/2027-05-22/
LOCATION:Sint Sebastiaen Den Haag\, Groenendaal 10\, Wassenaar\, 2244 BK\, Nederland
ORGANIZER;CN="Sint Sebastiaen":MAILTO:communicatie@sintsebastiaen.nl
END:VEVENT
BEGIN:VEVENT
DTSTART;TZID=Europe/Amsterdam:20270523T140000
DTEND;TZID=Europe/Amsterdam:20270523T180000
DTSTAMP:20260424T150008
CREATED:20251126T201113Z
LAST-MODIFIED:20251126T201113Z
UID:10004273-1811080800-1811095200@sintsebastiaen.nl
SUMMARY:Clubdag
DESCRIPTION:Clubdag voor leden van Sint Sebastiaen
URL:https://sintsebastiaen.nl/event/clubdag/2027-05-23/
LOCATION:Sint Sebastiaen Den Haag\, Groenendaal 10\, Wassenaar\, 2244 BK\, Nederland
ORGANIZER;CN="Sint Sebastiaen":MAILTO:communicatie@sintsebastiaen.nl
END:VEVENT
BEGIN:VEVENT
DTSTART;TZID=Europe/Amsterdam:20270526T200000
DTEND;TZID=Europe/Amsterdam:20270526T230000
DTSTAMP:20260424T150008
CREATED:20251126T200335Z
LAST-MODIFIED:20251126T200335Z
UID:10003673-1811361600-1811372400@sintsebastiaen.nl
SUMMARY:Clubavond
DESCRIPTION:Clubavond voor leden van Sint Sebastiaen
URL:https://sintsebastiaen.nl/event/clubavond/2027-05-26/
LOCATION:Sint Sebastiaen Den Haag\, Groenendaal 10\, Wassenaar\, 2244 BK\, Nederland
ORGANIZER;CN="Sint Sebastiaen":MAILTO:communicatie@sintsebastiaen.nl
END:VEVENT
BEGIN:VEVENT
DTSTART;TZID=Europe/Amsterdam:20270529T113000
DTEND;TZID=Europe/Amsterdam:20270529T130000
DTSTAMP:20260424T150008
CREATED:20221216T101727Z
LAST-MODIFIED:20221216T102334Z
UID:10002156-1811590200-1811595600@sintsebastiaen.nl
SUMMARY:Jeugd: vrij schieten\, kinderen/ouders samen schieten
DESCRIPTION:Iedere zaterdag na de jeugd cursus\, en ochtend\, kunnen ouders samen met hun kinderen schieten als beide lid zijn van de club. Daarnaast is er op deze tijden ruimte voor vrij schieten voor de jeugd.
URL:https://sintsebastiaen.nl/event/gezamelijk-schieten-ouders-jeugd/2027-05-29/
LOCATION:Sint Sebastiaen Den Haag\, Groenendaal 10\, Wassenaar\, 2244 BK\, Nederland
CATEGORIES:Vrij Schieten
ORGANIZER;CN="Sint Sebastiaen":MAILTO:communicatie@sintsebastiaen.nl
END:VEVENT
BEGIN:VEVENT
DTSTART;TZID=Europe/Amsterdam:20270529T140000
DTEND;TZID=Europe/Amsterdam:20270529T180000
DTSTAMP:20260424T150008
CREATED:20251126T201113Z
LAST-MODIFIED:20251126T201113Z
UID:10004274-1811599200-1811613600@sintsebastiaen.nl
SUMMARY:Clubdag
DESCRIPTION:Clubdag voor leden van Sint Sebastiaen
URL:https://sintsebastiaen.nl/event/clubdag/2027-05-29/
LOCATION:Sint Sebastiaen Den Haag\, Groenendaal 10\, Wassenaar\, 2244 BK\, Nederland
ORGANIZER;CN="Sint Sebastiaen":MAILTO:communicatie@sintsebastiaen.nl
END:VEVENT
BEGIN:VEVENT
DTSTART;TZID=Europe/Amsterdam:20270530T140000
DTEND;TZID=Europe/Amsterdam:20270530T180000
DTSTAMP:20260424T150008
CREATED:20251126T201113Z
LAST-MODIFIED:20251126T201113Z
UID:10004275-1811685600-1811700000@sintsebastiaen.nl
SUMMARY:Clubdag
DESCRIPTION:Clubdag voor leden van Sint Sebastiaen
URL:https://sintsebastiaen.nl/event/clubdag/2027-05-30/
LOCATION:Sint Sebastiaen Den Haag\, Groenendaal 10\, Wassenaar\, 2244 BK\, Nederland
ORGANIZER;CN="Sint Sebastiaen":MAILTO:communicatie@sintsebastiaen.nl
END:VEVENT
BEGIN:VEVENT
DTSTART;TZID=Europe/Amsterdam:20270602T200000
DTEND;TZID=Europe/Amsterdam:20270602T230000
DTSTAMP:20260424T150008
CREATED:20251126T200335Z
LAST-MODIFIED:20251126T200335Z
UID:10003674-1811966400-1811977200@sintsebastiaen.nl
SUMMARY:Clubavond
DESCRIPTION:Clubavond voor leden van Sint Sebastiaen
URL:https://sintsebastiaen.nl/event/clubavond/2027-06-02/
LOCATION:Sint Sebastiaen Den Haag\, Groenendaal 10\, Wassenaar\, 2244 BK\, Nederland
ORGANIZER;CN="Sint Sebastiaen":MAILTO:communicatie@sintsebastiaen.nl
END:VEVENT
BEGIN:VEVENT
DTSTART;TZID=Europe/Amsterdam:20270605T113000
DTEND;TZID=Europe/Amsterdam:20270605T130000
DTSTAMP:20260424T150008
CREATED:20221216T101727Z
LAST-MODIFIED:20221216T102334Z
UID:10002157-1812195000-1812200400@sintsebastiaen.nl
SUMMARY:Jeugd: vrij schieten\, kinderen/ouders samen schieten
DESCRIPTION:Iedere zaterdag na de jeugd cursus\, en ochtend\, kunnen ouders samen met hun kinderen schieten als beide lid zijn van de club. Daarnaast is er op deze tijden ruimte voor vrij schieten voor de jeugd.
URL:https://sintsebastiaen.nl/event/gezamelijk-schieten-ouders-jeugd/2027-06-05/
LOCATION:Sint Sebastiaen Den Haag\, Groenendaal 10\, Wassenaar\, 2244 BK\, Nederland
CATEGORIES:Vrij Schieten
ORGANIZER;CN="Sint Sebastiaen":MAILTO:communicatie@sintsebastiaen.nl
END:VEVENT
BEGIN:VEVENT
DTSTART;TZID=Europe/Amsterdam:20270605T140000
DTEND;TZID=Europe/Amsterdam:20270605T180000
DTSTAMP:20260424T150008
CREATED:20251126T201113Z
LAST-MODIFIED:20251126T201113Z
UID:10004276-1812204000-1812218400@sintsebastiaen.nl
SUMMARY:Clubdag
DESCRIPTION:Clubdag voor leden van Sint Sebastiaen
URL:https://sintsebastiaen.nl/event/clubdag/2027-06-05/
LOCATION:Sint Sebastiaen Den Haag\, Groenendaal 10\, Wassenaar\, 2244 BK\, Nederland
ORGANIZER;CN="Sint Sebastiaen":MAILTO:communicatie@sintsebastiaen.nl
END:VEVENT
BEGIN:VEVENT
DTSTART;TZID=Europe/Amsterdam:20270606T140000
DTEND;TZID=Europe/Amsterdam:20270606T180000
DTSTAMP:20260424T150008
CREATED:20251126T201113Z
LAST-MODIFIED:20251126T201113Z
UID:10004277-1812290400-1812304800@sintsebastiaen.nl
SUMMARY:Clubdag
DESCRIPTION:Clubdag voor leden van Sint Sebastiaen
URL:https://sintsebastiaen.nl/event/clubdag/2027-06-06/
LOCATION:Sint Sebastiaen Den Haag\, Groenendaal 10\, Wassenaar\, 2244 BK\, Nederland
ORGANIZER;CN="Sint Sebastiaen":MAILTO:communicatie@sintsebastiaen.nl
END:VEVENT
BEGIN:VEVENT
DTSTART;TZID=Europe/Amsterdam:20270609T200000
DTEND;TZID=Europe/Amsterdam:20270609T230000
DTSTAMP:20260424T150008
CREATED:20251126T200335Z
LAST-MODIFIED:20251126T200335Z
UID:10003675-1812571200-1812582000@sintsebastiaen.nl
SUMMARY:Clubavond
DESCRIPTION:Clubavond voor leden van Sint Sebastiaen
URL:https://sintsebastiaen.nl/event/clubavond/2027-06-09/
LOCATION:Sint Sebastiaen Den Haag\, Groenendaal 10\, Wassenaar\, 2244 BK\, Nederland
ORGANIZER;CN="Sint Sebastiaen":MAILTO:communicatie@sintsebastiaen.nl
END:VEVENT
BEGIN:VEVENT
DTSTART;TZID=Europe/Amsterdam:20270612T113000
DTEND;TZID=Europe/Amsterdam:20270612T130000
DTSTAMP:20260424T150008
CREATED:20221216T101727Z
LAST-MODIFIED:20221216T102334Z
UID:10002158-1812799800-1812805200@sintsebastiaen.nl
SUMMARY:Jeugd: vrij schieten\, kinderen/ouders samen schieten
DESCRIPTION:Iedere zaterdag na de jeugd cursus\, en ochtend\, kunnen ouders samen met hun kinderen schieten als beide lid zijn van de club. Daarnaast is er op deze tijden ruimte voor vrij schieten voor de jeugd.
URL:https://sintsebastiaen.nl/event/gezamelijk-schieten-ouders-jeugd/2027-06-12/
LOCATION:Sint Sebastiaen Den Haag\, Groenendaal 10\, Wassenaar\, 2244 BK\, Nederland
CATEGORIES:Vrij Schieten
ORGANIZER;CN="Sint Sebastiaen":MAILTO:communicatie@sintsebastiaen.nl
END:VEVENT
BEGIN:VEVENT
DTSTART;TZID=Europe/Amsterdam:20270612T140000
DTEND;TZID=Europe/Amsterdam:20270612T180000
DTSTAMP:20260424T150008
CREATED:20251126T201113Z
LAST-MODIFIED:20251126T201113Z
UID:10004278-1812808800-1812823200@sintsebastiaen.nl
SUMMARY:Clubdag
DESCRIPTION:Clubdag voor leden van Sint Sebastiaen
URL:https://sintsebastiaen.nl/event/clubdag/2027-06-12/
LOCATION:Sint Sebastiaen Den Haag\, Groenendaal 10\, Wassenaar\, 2244 BK\, Nederland
ORGANIZER;CN="Sint Sebastiaen":MAILTO:communicatie@sintsebastiaen.nl
END:VEVENT
BEGIN:VEVENT
DTSTART;TZID=Europe/Amsterdam:20270613T140000
DTEND;TZID=Europe/Amsterdam:20270613T180000
DTSTAMP:20260424T150008
CREATED:20251126T201113Z
LAST-MODIFIED:20251126T201113Z
UID:10004279-1812895200-1812909600@sintsebastiaen.nl
SUMMARY:Clubdag
DESCRIPTION:Clubdag voor leden van Sint Sebastiaen
URL:https://sintsebastiaen.nl/event/clubdag/2027-06-13/
LOCATION:Sint Sebastiaen Den Haag\, Groenendaal 10\, Wassenaar\, 2244 BK\, Nederland
ORGANIZER;CN="Sint Sebastiaen":MAILTO:communicatie@sintsebastiaen.nl
END:VEVENT
BEGIN:VEVENT
DTSTART;TZID=Europe/Amsterdam:20270616T200000
DTEND;TZID=Europe/Amsterdam:20270616T230000
DTSTAMP:20260424T150008
CREATED:20251126T200335Z
LAST-MODIFIED:20251126T200335Z
UID:10003676-1813176000-1813186800@sintsebastiaen.nl
SUMMARY:Clubavond
DESCRIPTION:Clubavond voor leden van Sint Sebastiaen
URL:https://sintsebastiaen.nl/event/clubavond/2027-06-16/
LOCATION:Sint Sebastiaen Den Haag\, Groenendaal 10\, Wassenaar\, 2244 BK\, Nederland
ORGANIZER;CN="Sint Sebastiaen":MAILTO:communicatie@sintsebastiaen.nl
END:VEVENT
BEGIN:VEVENT
DTSTART;TZID=Europe/Amsterdam:20270619T113000
DTEND;TZID=Europe/Amsterdam:20270619T130000
DTSTAMP:20260424T150008
CREATED:20221216T101727Z
LAST-MODIFIED:20221216T102334Z
UID:10002159-1813404600-1813410000@sintsebastiaen.nl
SUMMARY:Jeugd: vrij schieten\, kinderen/ouders samen schieten
DESCRIPTION:Iedere zaterdag na de jeugd cursus\, en ochtend\, kunnen ouders samen met hun kinderen schieten als beide lid zijn van de club. Daarnaast is er op deze tijden ruimte voor vrij schieten voor de jeugd.
URL:https://sintsebastiaen.nl/event/gezamelijk-schieten-ouders-jeugd/2027-06-19/
LOCATION:Sint Sebastiaen Den Haag\, Groenendaal 10\, Wassenaar\, 2244 BK\, Nederland
CATEGORIES:Vrij Schieten
ORGANIZER;CN="Sint Sebastiaen":MAILTO:communicatie@sintsebastiaen.nl
END:VEVENT
BEGIN:VEVENT
DTSTART;TZID=Europe/Amsterdam:20270619T140000
DTEND;TZID=Europe/Amsterdam:20270619T180000
DTSTAMP:20260424T150008
CREATED:20251126T201113Z
LAST-MODIFIED:20251126T201113Z
UID:10004280-1813413600-1813428000@sintsebastiaen.nl
SUMMARY:Clubdag
DESCRIPTION:Clubdag voor leden van Sint Sebastiaen
URL:https://sintsebastiaen.nl/event/clubdag/2027-06-19/
LOCATION:Sint Sebastiaen Den Haag\, Groenendaal 10\, Wassenaar\, 2244 BK\, Nederland
ORGANIZER;CN="Sint Sebastiaen":MAILTO:communicatie@sintsebastiaen.nl
END:VEVENT
BEGIN:VEVENT
DTSTART;TZID=Europe/Amsterdam:20270620T140000
DTEND;TZID=Europe/Amsterdam:20270620T180000
DTSTAMP:20260424T150008
CREATED:20251126T201113Z
LAST-MODIFIED:20251126T201113Z
UID:10004281-1813500000-1813514400@sintsebastiaen.nl
SUMMARY:Clubdag
DESCRIPTION:Clubdag voor leden van Sint Sebastiaen
URL:https://sintsebastiaen.nl/event/clubdag/2027-06-20/
LOCATION:Sint Sebastiaen Den Haag\, Groenendaal 10\, Wassenaar\, 2244 BK\, Nederland
ORGANIZER;CN="Sint Sebastiaen":MAILTO:communicatie@sintsebastiaen.nl
END:VEVENT
BEGIN:VEVENT
DTSTART;TZID=Europe/Amsterdam:20270623T200000
DTEND;TZID=Europe/Amsterdam:20270623T230000
DTSTAMP:20260424T150008
CREATED:20251126T200335Z
LAST-MODIFIED:20251126T200335Z
UID:10003677-1813780800-1813791600@sintsebastiaen.nl
SUMMARY:Clubavond
DESCRIPTION:Clubavond voor leden van Sint Sebastiaen
URL:https://sintsebastiaen.nl/event/clubavond/2027-06-23/
LOCATION:Sint Sebastiaen Den Haag\, Groenendaal 10\, Wassenaar\, 2244 BK\, Nederland
ORGANIZER;CN="Sint Sebastiaen":MAILTO:communicatie@sintsebastiaen.nl
END:VEVENT
BEGIN:VEVENT
DTSTART;TZID=Europe/Amsterdam:20270626T113000
DTEND;TZID=Europe/Amsterdam:20270626T130000
DTSTAMP:20260424T150008
CREATED:20221216T101727Z
LAST-MODIFIED:20221216T102334Z
UID:10002160-1814009400-1814014800@sintsebastiaen.nl
SUMMARY:Jeugd: vrij schieten\, kinderen/ouders samen schieten
DESCRIPTION:Iedere zaterdag na de jeugd cursus\, en ochtend\, kunnen ouders samen met hun kinderen schieten als beide lid zijn van de club. Daarnaast is er op deze tijden ruimte voor vrij schieten voor de jeugd.
URL:https://sintsebastiaen.nl/event/gezamelijk-schieten-ouders-jeugd/2027-06-26/
LOCATION:Sint Sebastiaen Den Haag\, Groenendaal 10\, Wassenaar\, 2244 BK\, Nederland
CATEGORIES:Vrij Schieten
ORGANIZER;CN="Sint Sebastiaen":MAILTO:communicatie@sintsebastiaen.nl
END:VEVENT
BEGIN:VEVENT
DTSTART;TZID=Europe/Amsterdam:20270626T140000
DTEND;TZID=Europe/Amsterdam:20270626T180000
DTSTAMP:20260424T150008
CREATED:20251126T201113Z
LAST-MODIFIED:20251126T201113Z
UID:10004282-1814018400-1814032800@sintsebastiaen.nl
SUMMARY:Clubdag
DESCRIPTION:Clubdag voor leden van Sint Sebastiaen
URL:https://sintsebastiaen.nl/event/clubdag/2027-06-26/
LOCATION:Sint Sebastiaen Den Haag\, Groenendaal 10\, Wassenaar\, 2244 BK\, Nederland
ORGANIZER;CN="Sint Sebastiaen":MAILTO:communicatie@sintsebastiaen.nl
END:VEVENT
END:VCALENDAR